Workbook

Sheet הנחיות כלליות
A1: הנחיות למילוי טפסים
A2: א. | B2: אין למחוק גיליונות, שורות או עמודות גם אם אינם רלוונטים
A3: ב. | B3: בשדות של שיעורים (אחוז) - יש למלא את השיעור (אחוז) כמספר ולא כשבר עשרוני. לדוגמא - יש למלא 50 ולא 0.5
A4: ג. | B4: עבור שם מבקש הרישיון יש לרשום את שם המבקש כפי שהוזן במערכת הרישוי המקוונת באופן מדוייק
A5: ד. | B5: בכל מקום בו יש התייחסות לחוק, הכוונה לחוק הפיקוח על שירותים פיננסיים (שירותים פיננסיים מוגדרים), התשע"ו-2016
A6: ה. | B6: בכל שאלה יש למלא את התא הסמוך אליה בלבד. תאים אחרים נעולים, ולא ניתן להזין בהם מידע
A7: ו. | B7: תאי מלל יש למלא בעברית, אלא אם כ מדובר במספר דרכון או שם תאגיד הכולל אותיות לועזיות
A8: ז. | B8: למען הסר ספק, גם אם מבקש ההיתר לשליטה ממלא כי צורפו מסמכים נוספים בתוך הטבלאות בטופס, הרי שבקשתו לא תחשב למלאה אם הקבצים לא הועברו
A9: ח. | B9: אם יש יותר ממבקש היתר לשליטה אחד, יש למלא עבור כל מבקש היתר לשליטה טופס T2 נפרד. דהיינו - יש למלא טפסי T2 לפי מספר מבקשי ההיתר לשליטה
A10: ט. | B10: הנחיות פרטניות מופיעות בגיליונות
A11: מספר טפסים
A12: מס' טופס | B12: שם
A13: טופס 1 | B13: טופס בקשה להיתר
A14: טופס 2(1) | B14: טופס שאלון מבקש היתר שליטה עבור מבקש היתר מס' 1
A15: טופס 2(2) | B15: טופש שאלון מבקש היתר שליטה עבור מבקש היתר מס' 2
A16: טופס 2(3) | B16: טופס שאלון מבקש היתר שליטה עבור מבקש היתר מס' 3
A17: טופס 2(4) | B17: טופס שאלון מבקש היתר לשליטה עבורמבקש היתר מס' 4
A18: טופס 2(5) | B18: טופס שאלון מבקש היתר לשליטה עבורמבקש היתר מס' 5
A19: טופס 2(6) | B19: טופס שאלון מבקש היתר לשליטה עבורמבקש היתר מס' 6
A20: טופס 2(7) | B20: טופס שאלון מבקש היתר לשליטה עבורמבקש היתר מס' 7
A21: טופס 2(8) | B21: טופס שאלון מבקש היתר לשליטה עבורמבקש היתר מס' 8
A22: טופס 2(9) | B22: טופס שאלון מבקש היתר לשליטה עבורמבקש היתר מס' 9
A23: טופס 2(10) | B23: טופס שאלון מבקש היתר לשליטה עבורמבקש היתר מס' 10
A24: טופס 3 | B24: טופס בקשת עדכון

Sheet T1
A1: הנחיות למילוי הגיליון
A2: א. | B2: אם לא קיימת הרשעה או אינך בעל השפעה / שליטה בעסק אחר, יש לציין אין בתאים המתאימים
A3: ב. | B3: עבור פרטי בעל השליטה או בעל העניין - יש להזין מספר זיהוי שאינו ת.ז או דרכון רק עבור מקרים בהם בעל השליטה או בעל העניין הוא תאגיד ללא שולט
A6: חלק א'
A7: פרטי העסק
A8: 1 | B8: שם מבקש הרישיון
A9: 2 | B9: סוג מזהה
A10: 3 | B10: מס' זיהוי
A12: חלק ב'
A13: בעל שליטה או בעל עניין
A14: 4 | B14: פרטי בעל שליטה או בעל עניין | AF14: פרטי אמצעי השליטה
A15: 4.1 | B15: בעל שליטה / בעל עניין | D15: שם מלא | F15: שם משפחה קודם | H15: סוג מזהה | J15: מס' זיהוי | L15: יישוב | N15: רחוב | Q15: מס' בית | R15: מס' כניסה | S15: קומה | T15: מיקוד | V15: ת.ד | X15: טלפון נייח | Z15: טלפון נייד | AB15: פקס | AD15: דוא"ל | AF15: אמצעי השליטה | AH15: שיעור החזקה/ השליטה בפועל (%) | AJ15: פירוט - שדה זה רלוונטי רק כאשר הוזן אמצעי שליטה "אחר"
A19: 1
A29: 2
A39: 3
A49: 4
A59: 5
A69: 6
A79: 7
A89: 8
A99: 9
A109: 10
A119: 11
A129: 12
... A309: 30

Sheet T2(1)
A1: חלק א'
A2: פרטי העסק
A3: 1 | B3: שם מבקש הרישיון | F3: ='T1'!F8 -> 0
A4: 2 | B4: סוג מזהה | F4: ='T1'!F9 -> 0
A5: 3 | B5: מס' זיהוי | F5: ='T1'!F10 -> 0
A6: 1 | B6: שם מבקש ההיתר
A7: 2 | B7: סוג מזהה
A8: 3 | B8: מס' זיהוי
A10: חלק ב'
A11: הצהרות
A12: 4 | B12: האם אחד הבנקים סירב לפתוח עבורך חשבון?
A13: 4.1 | B13: אם כן, מהן הסיבות לסירוב? יש לפרט כל פרט רלוונטי נוסף
A14: 5 | B14: האם חשבון הבנק שלך הוגבל בעבר?
A15: 5.1 | B15: אם כן, מהן הסיבות להגבלה? יש לפרט כל פרט רלוונטי נוסף
A16: 6 | B16: האם קיים בעניינך רישום במרשם הפלילי (כמשמעותו בחוק המרשם הפלילי ותקנת השבים, התשמ"א-1981)?
A17: 6.1 | B17: אם כן יש לציין מהי העבירה ולציין אלו מסמכים צורפו לבקשה | N17: פירוט העבירה | T17: האם העבירה מופיעה בסעיף 15(א)(3)(א) לחוק? | W17: האם בוצעה בישראל? | Z17: העתק כתב אישום | AC17: פס"ד | AF17: גזר דין | AI17: אישור תרגום נוטוריון | AL17: האם צורפו מסמכים אחרים? | AO17: מספר מסמכים שצורפו
A27: 7 | B27: האם קיימים נגדך תיקים פתוחים בהוצאה לפועל?
A28: 7.1 | B28: אם כן, יש לפרט את פרטי התיקים, גובה החוב וכל פרט רלוונטי נוסף | N28: מס' תיק | Q28: גובה החוב | T28: מידע רלוונטי
A39: 8 | B39: האם עומדות נגדך תביעות פתוחות במס הכנסה או במע"מ?
A40: 8.1 | B40: אם כן, יש לפרט את פרטי התביעה, גובה החוב וכל פרט רלוונטי נוסף | N40: מס' תיק | Q40: גובה החוב | T40: מידע רלוונטי
A51: 9 | B51: האם יש לך חובות הנמצאים בהליך גבייה מול המרכז לגביית קנסות?
A52: 9.1 | B52: אם כן, יש לפרט את פרטי החובות ככל שקיימים וכל פרט רלוונטי נוסף | N52: מס' תיק | Q52: גובה החוב | T52: מידע רלוונטי
A63: 10 | B63: האם הוכרזת במהלך שבע השנים האחרונות כפושט רגל?
A64: 10.1 | B64: אם כן, מה סטטוס ההכרזה נכון ליום הגשת הבקשה?
A65: 11 | B65: האם החזקת ברישיון או ברישום שהותלה על ידי גורם מפקח אחר (אינו רשם נש"מ)?
A66: 11.1 | B66: אם כן, יש לצרף את מכתב ההתלייה ולפרט את עיקר הנימוקים באמצעות מערכת הרישוי המקוונת ולפרט בטופס זה את עיקר הנימוקים
A67: 12 | B67: האם החזקת ברישיון או ברישום שבוטל/ה על ידי גורם מפקח אחר (שגם אינו רשם נש"מ)?
A68: 12.1 | B68: אם כן, יש לצרף את מכתב הביטול ולפרט את עיקר הנימוקים באמצעות מערכת הרישוי המקוונת ולפרט בטופס זה את עיקר הנימוקים
A69: 16 | B69: האם הגשת בעבר בקשה להירשם במרשם נותני שירותי מטבע או בקשה לקבל רישיון אחר מאת המפקח על נותני שירותים פיננסיים?
A70: 16.1 | B70: אם כן, יש לפרט | W70: מס' בקשה (אם קיים) | Z70: סוג מזהה | AC70: מס' זיהוי | AF70: האם הבקשה נדחתה? | AI70: האם הוגש ערעור?
A81: 18 | B81: במידה והחזקת ברישיון אחר או בתעודת נותן שירותי מטבע, האם רישומך במרשם נותני שירותי מטבע הותלה על ידי הרשם?
A82: 18.1 | B82: אם כן יש לצרף מסמכים רלוונטים באמצעות מערכת הרישוי המקוונת ולפרט בטופס זה את עיקר הנימוקים
A83: 19 | B83: במידה והחזקת ברישיון אחר או בתעודת נותן שירותי מטבע, האם רישומך במרשם נותני שירותי מטבע בוטל על ידי הרשם?
A84: 19.1 | B84: אם כן יש לצרף מסמכים רלוונטים באמצעות מערכת הרישוי המקוונת ולפרט בטופס זה את עיקר הנימוקים
A85: 20 | B85: במידה והחזקת ברישיון אחר או בתעודת נותן שירותי מטבע, האם הוטלו עליך עיצומים?
A86: 20.1 | B86: אם כן יש לצרף מסמכים רלוונטים באמצעות מערכת הרישוי המקוונת ולפרט בטופס זה את עיקר הדברים
A87: 21 | B87: במידה והחזקת ברישיון אחר או בתעודת נותן שירותי מטבע, האם בוצע שימוע בעניינך, לרבות ביטול דרישה לביטול רישיון, להתליית רישיון או להטלת עיצום כספי?
A88: 21.1 | B88: אם כן יש לצרף מסמכים רלוונטים באמצעות מערכת הרישוי המקוונת ולפרט בטופס זה את עיקר הדברים
A89: 22 | B89: האם קיים קשר עסקי לחברות בחו"ל?
A90: 22.1 | B90: אם כן, נא לפרט
A91: 23 | B91: האם ישנו קרוב משפחה שעובד או עבד בעבר כנותן שירותי מטבע או נותן שירות פיננסי?
A92: 23.1 | B92: אם כן, יש לפרט את הפרטים הבאים עבור כל קרוב משפחה ועבור כל מקום עבודה רלוונטי שעבד בו | Q92: שם מלא | T92: סוג מזהה | W92: מס' מזהה | Z92: שם נותן השירות | AC92: מס' רישיון/רישום | AF92: תפקיד | AI92: האם סיים תפקידו?
A103: 24 | B103: האם ישנו קרוב משפחה המחזיק באמצעי שליטה כיום או ב-3 השנים האחרונות בנותן שירותי מטבע או בנותן שירות פיננסי?
A104: 24.1 | B104: אם כן, יש לפרט את הפרטים הבאים עבור כל קרוב משפחה ועבור כל נותן שירותי מטבע | Q104: שם מלא | T104: סוג מזהה | W104: מס' מזהה | Z104: שם נותן השירות | AC104: מס' רישיון/רישום | AF104: אמצעי שליטה | AI104: שיעור החזקה/ השליטה בפועל (%) | AL104: פירוט - שדה זה רלוונטי רק כאשר הוזן אמצעי שליטה "אחר"
A115: 25 | B115: האם ישנו קרוב משפחה שהגיש בקשה לרישום נותן שירותי מטבע או לקבלת רישיון בנותן שירות פיננסי, כיום או בעבר ?
A116: 25.1 | B116: אם כן, יש לפרט את הפרטים הבאים עבור כל קרוב משפחה ועבור כל מקום עבודה רלוונטי שעבד בו | Q116: מס' בקשה (אם קיים) | T116: סוג מזהה | W116: מס' זיהוי | Z116: האם הבקשה נדחתה? | AC116: האם הוגש ערעור?
A127: 26 | B127: האם מבקש הרישיון הוא בעל השפעה או מחזיק באמצעי שליטה בנותן שירותים פיננסיים אחר?
A128: 26.1 | B128: אם כן, יש לפרט את הפרטים הבאים | J128: שם נותן השירותים הפיננסיים | Q128: סוג מזהה | T128: מס' מזהה | W128: אמצעי השליטה | Z128: שיעור החזקה בפועל | AC128: פירוט - שדה זה רלוונטי רק כאשר הוזן אמצעי שליטה "אחר"
A139: 27 | B139: האם היית בעבר בעל עסק של נותן שירותי מטבע או נותן שירות פיננסי?
A140: 27.1 | B140: אם כן, יש לציין את פרטי העסק והסיבה לסגירה | Q140: שם נותן השירותים הפיננסיים | X140: מס' רישיון | AA140: הסיבה לסגירה
A151: 28 | B151: האם קיימת עילה המונעת ממך לשמש כנושא משרה בתאגיד (למשל החלטה, צו או פסק דין של בית משפט)?
A152: 28.1 | B152: אם כן, יש לפרט
A153: 29 | B153: האם הגשת בעבר בקשה לקבל היתר החזקה או שליטה על ידי גורם מפקח כלשהו?
A154: 29.1 | B154: אם כן, יש לפרט | T154: גורם מפקח | V154: גורם מפקח | W154: מס' בקשה (אם קיים) | Z154: סוג מזהה | AC154: מס' זיהוי | AF154: האם הבקשה נדחתה? | AI154: האם הוגש ערעור? | AL154: האם הבקשה בוטלה? | AM154: האם
A165: 30 | B165: במידה והחזקת בהיתר החזקה או שליטה, האם ההיתר הותלה?
A166: 30.1 | B166: אם כן יש לצרף מסמכים רלוונטים באמצעות מערכת הרישוי המקוונת ולפרט בטופס זה את עיקר הנימוקים
A167: 31 | B167: במידה והחזקת בהיתר החזקה או שליטה האם ההיתר בוטל?
A168: 31.1 | B168: אם כן יש לצרף מסמכים רלוונטים באמצעות מערכת הרישוי המקוונת ולפרט בטופס זה את עיקר הנימוקים
A169: 32 | B169: במידה והחזקת בהיתר החזקה או שליטה, האם הוטלו עליך עיצומים?
A170: 32.1 | B170: אם כן יש לצרף מסמכים רלוונטים באמצעות מערכת הרישוי המקוונת ולפרט בטופס זה את עיקר הדברים
A171: 33 | B171: במידה והחזקת ברהיתר החזקה או שליטה, האם בוצע שימוע בעניינך, לרבות ביטול דרישה לביטול רישיון, להתליית רישיון או להטלת עיצום כספי?
A172: 33.1 | B172: אם כן יש לצרף מסמכים רלוונטים באמצעות מערכת הרישוי המקוונת ולפרט בטופס זה את עיקר הדברים

Sheet T2(2)
A1: חלק א'
A2: פרטי העסק
A3: 1 | B3: שם מבקש הרישיון | F3: ='T1'!F8 -> 0
A4: 2 | B4: סוג מזהה | F4: ='T1'!F9 -> 0
A5: 3 | B5: מס' זיהוי | F5: ='T1'!F10 -> 0
A6: 1 | B6: שם מבקש ההיתר
A7: 2 | B7: סוג מזהה
A8: 3 | B8: מס' זיהוי
A10: חלק ב'
A11: הצהרות
A12: 4 | B12: האם אחד הבנקים סירב לפתוח עבורך חשבון?
A13: 4.1 | B13: אם כן, מהן הסיבות לסירוב? יש לפרט כל פרט רלוונטי נוסף
A14: 5 | B14: האם חשבון הבנק שלך הוגבל בעבר?
A15: 5.1 | B15: אם כן, מהן הסיבות להגבלה? יש לפרט כל פרט רלוונטי נוסף
A16: 6 | B16: האם קיים בעניינך רישום במרשם הפלילי (כמשמעותו בחוק המרשם הפלילי ותקנת השבים, התשמ"א-1981)?
A17: 6.1 | B17: אם כן יש לציין מהי העבירה ולציין אלו מסמכים צורפו לבקשה | N17: פירוט העבירה | T17: האם העבירה מופיעה בסעיף 15(א)(3)(א) לחוק? | W17: האם בוצעה בישראל? | Z17: העתק כתב אישום | AC17: פס"ד | AF17: גזר דין | AI17: אישור תרגום נוטוריון | AL17: האם צורפו מסמכים אחרים? | AO17: מספר מסמכים שצורפו
A27: 7 | B27: האם קיימים נגדך תיקים פתוחים בהוצאה לפועל?
A28: 7.1 | B28: אם כן, יש לפרט את פרטי התיקים, גובה החוב וכל פרט רלוונטי נוסף | N28: מס' תיק | Q28: גובה החוב | T28: מידע רלוונטי
A39: 8 | B39: האם עומדות נגדך תביעות פתוחות במס הכנסה או במע"מ?
A40: 8.1 | B40: אם כן, יש לפרט את פרטי התביעה, גובה החוב וכל פרט רלוונטי נוסף | N40: מס' תיק | Q40: גובה החוב | T40: מידע רלוונטי
A51: 9 | B51: האם יש לך חובות הנמצאים בהליך גבייה מול המרכז לגביית קנסות?
A52: 9.1 | B52: אם כן, יש לפרט את פרטי החובות ככל שקיימים וכל פרט רלוונטי נוסף | N52: מס' תיק | Q52: גובה החוב | T52: מידע רלוונטי
A63: 10 | B63: האם הוכרזת במהלך שבע השנים האחרונות כפושט רגל?
A64: 10.1 | B64: אם כן, מה סטטוס ההכרזה נכון ליום הגשת הבקשה?
A65: 11 | B65: האם החזקת ברישיון או ברישום שהותלה על ידי גורם מפקח אחר (אינו רשם נש"מ)?
A66: 11.1 | B66: אם כן, יש לצרף את מכתב ההתלייה ולפרט את עיקר הנימוקים באמצעות מערכת הרישוי המקוונת ולפרט בטופס זה את עיקר הנימוקים
A67: 12 | B67: האם החזקת ברישיון או ברישום שבוטל/ה על ידי גורם מפקח אחר (שגם אינו רשם נש"מ)?
A68: 12.1 | B68: אם כן, יש לצרף את מכתב הביטול ולפרט את עיקר הנימוקים באמצעות מערכת הרישוי המקוונת ולפרט בטופס זה את עיקר הנימוקים
A69: 16 | B69: האם הגשת בעבר בקשה להירשם במרשם נותני שירותי מטבע או בקשה לקבל רישיון אחר מאת המפקח על נותני שירותים פיננסיים?
A70: 16.1 | B70: אם כן, יש לפרט | W70: מס' בקשה (אם קיים) | Z70: סוג מזהה | AC70: מס' זיהוי | AF70: האם הבקשה נדחתה? | AI70: האם הוגש ערעור?
A81: 18 | B81: במידה והחזקת ברישיון אחר או בתעודת נותן שירותי מטבע, האם רישומך במרשם נותני שירותי מטבע הותלה על ידי הרשם?
A82: 18.1 | B82: אם כן יש לצרף מסמכים רלוונטים באמצעות מערכת הרישוי המקוונת ולפרט בטופס זה את עיקר הנימוקים
A83: 19 | B83: במידה והחזקת ברישיון אחר או בתעודת נותן שירותי מטבע, האם רישומך במרשם נותני שירותי מטבע בוטל על ידי הרשם?
A84: 19.1 | B84: אם כן יש לצרף מסמכים רלוונטים באמצעות מערכת הרישוי המקוונת ולפרט בטופס זה את עיקר הנימוקים
A85: 20 | B85: במידה והחזקת ברישיון אחר או בתעודת נותן שירותי מטבע, האם הוטלו עליך עיצומים?
A86: 20.1 | B86: אם כן יש לצרף מסמכים רלוונטים באמצעות מערכת הרישוי המקוונת ולפרט בטופס זה את עיקר הדברים
A87: 21 | B87: במידה והחזקת ברישיון אחר או בתעודת נותן שירותי מטבע, האם בוצע שימוע בעניינך, לרבות ביטול דרישה לביטול רישיון, להתליית רישיון או להטלת עיצום כספי?
A88: 21.1 | B88: אם כן יש לצרף מסמכים רלוונטים באמצעות מערכת הרישוי המקוונת ולפרט בטופס זה את עיקר הדברים
A89: 22 | B89: האם קיים קשר עסקי לחברות בחו"ל?
A90: 22.1 | B90: אם כן, נא לפרט
A91: 23 | B91: האם ישנו קרוב משפחה שעובד או עבד בעבר כנותן שירותי מטבע או נותן שירות פיננסי?
A92: 23.1 | B92: אם כן, יש לפרט את הפרטים הבאים עבור כל קרוב משפחה ועבור כל מקום עבודה רלוונטי שעבד בו | Q92: שם מלא | T92: סוג מזהה | W92: מס' מזהה | Z92: שם נותן השירות | AC92: מס' רישיון/רישום | AF92: תפקיד | AI92: האם סיים תפקידו?
A103: 24 | B103: האם ישנו קרוב משפחה המחזיק באמצעי שליטה כיום או ב-3 השנים האחרונות בנותן שירותי מטבע או בנותן שירות פיננסי?
A104: 24.1 | B104: אם כן, יש לפרט את הפרטים הבאים עבור כל קרוב משפחה ועבור כל נותן שירותי מטבע | Q104: שם מלא | T104: סוג מזהה | W104: מס' מזהה | Z104: שם נותן השירות | AC104: מס' רישיון/רישום | AF104: אמצעי שליטה | AI104: שיעור החזקה/ השליטה בפועל (%) | AL104: פירוט - שדה זה רלוונטי רק כאשר הוזן אמצעי שליטה "אחר"
A115: 25 | B115: האם ישנו קרוב משפחה שהגיש בקשה לרישום נותן שירותי מטבע או לקבלת רישיון בנותן שירות פיננסי, כיום או בעבר ?
A116: 25.1 | B116: אם כן, יש לפרט את הפרטים הבאים עבור כל קרוב משפחה ועבור כל מקום עבודה רלוונטי שעבד בו | Q116: מס' בקשה (אם קיים) | T116: סוג מזהה | W116: מס' זיהוי | Z116: האם הבקשה נדחתה? | AC116: האם הוגש ערעור?
A127: 26 | B127: האם מבקש הרישיון הוא בעל השפעה או מחזיק באמצעי שליטה בנותן שירותים פיננסיים אחר?
A128: 26.1 | B128: אם כן, יש לפרט את הפרטים הבאים | J128: שם נותן השירותים הפיננסיים | Q128: סוג מזהה | T128: מס' מזהה | W128: אמצעי השליטה | Z128: שיעור החזקה בפועל | AC128: פירוט - שדה זה רלוונטי רק כאשר הוזן אמצעי שליטה "אחר"
A139: 27 | B139: האם היית בעבר בעל עסק של נותן שירותי מטבע או נותן שירות פיננסי?
A140: 27.1 | B140: אם כן, יש לציין את פרטי העסק והסיבה לסגירה | Q140: שם נותן השירותים הפיננסיים | X140: מס' רישיון | AA140: הסיבה לסגירה
A151: 28 | B151: האם קיימת עילה המונעת ממך לשמש כנושא משרה בתאגיד (למשל החלטה, צו או פסק דין של בית משפט)?
A152: 28.1 | B152: אם כן, יש לפרט
A153: 29 | B153: האם הגשת בעבר בקשה לקבל היתר החזקה או שליטה על ידי גורם מפקח כלשהו?
A154: 29.1 | B154: אם כן, יש לפרט | T154: גורם מפקח | V154: גורם מפקח | W154: מס' בקשה (אם קיים) | Z154: סוג מזהה | AC154: מס' זיהוי | AF154: האם הבקשה נדחתה? | AI154: האם הוגש ערעור? | AL154: האם הבקשה בוטלה? | AM154: האם
A165: 30 | B165: במידה והחזקת בהיתר החזקה או שליטה, האם ההיתר הותלה?
A166: 30.1 | B166: אם כן יש לצרף מסמכים רלוונטים באמצעות מערכת הרישוי המקוונת ולפרט בטופס זה את עיקר הנימוקים
A167: 31 | B167: במידה והחזקת בהיתר החזקה או שליטה האם ההיתר בוטל?
A168: 31.1 | B168: אם כן יש לצרף מסמכים רלוונטים באמצעות מערכת הרישוי המקוונת ולפרט בטופס זה את עיקר הנימוקים
A169: 32 | B169: במידה והחזקת בהיתר החזקה או שליטה, האם הוטלו עליך עיצומים?
A170: 32.1 | B170: אם כן יש לצרף מסמכים רלוונטים באמצעות מערכת הרישוי המקוונת ולפרט בטופס זה את עיקר הדברים
A171: 33 | B171: במידה והחזקת ברהיתר החזקה או שליטה, האם בוצע שימוע בעניינך, לרבות ביטול דרישה לביטול רישיון, להתליית רישיון או להטלת עיצום כספי?
A172: 33.1 | B172: אם כן יש לצרף מסמכים רלוונטים באמצעות מערכת הרישוי המקוונת ולפרט בטופס זה את עיקר הדברים

Sheet T2(3)
A1: חלק א'
A2: פרטי העסק
A3: 1 | B3: שם מבקש הרישיון | F3: ='T1'!F8 -> 0
A4: 2 | B4: סוג מזהה | F4: ='T1'!F9 -> 0
A5: 3 | B5: מס' זיהוי | F5: ='T1'!F10 -> 0
A6: 1 | B6: שם מבקש ההיתר
A7: 2 | B7: סוג מזהה
A8: 3 | B8: מס' זיהוי
A10: חלק ב'
A11: הצהרות
A12: 4 | B12: האם אחד הבנקים סירב לפתוח עבורך חשבון?
A13: 4.1 | B13: אם כן, מהן הסיבות לסירוב? יש לפרט כל פרט רלוונטי נוסף
A14: 5 | B14: האם חשבון הבנק שלך הוגבל בעבר?
A15: 5.1 | B15: אם כן, מהן הסיבות להגבלה? יש לפרט כל פרט רלוונטי נוסף
A16: 6 | B16: האם קיים בעניינך רישום במרשם הפלילי (כמשמעותו בחוק המרשם הפלילי ותקנת השבים, התשמ"א-1981)?
A17: 6.1 | B17: אם כן יש לציין מהי העבירה ולציין אלו מסמכים צורפו לבקשה | N17: פירוט העבירה | T17: האם העבירה מופיעה בסעיף 15(א)(3)(א) לחוק? | W17: האם בוצעה בישראל? | Z17: העתק כתב אישום | AC17: פס"ד | AF17: גזר דין | AI17: אישור תרגום נוטוריון | AL17: האם צורפו מסמכים אחרים? | AO17: מספר מסמכים שצורפו
A27: 7 | B27: האם קיימים נגדך תיקים פתוחים בהוצאה לפועל?
A28: 7.1 | B28: אם כן, יש לפרט את פרטי התיקים, גובה החוב וכל פרט רלוונטי נוסף | N28: מס' תיק | Q28: גובה החוב | T28: מידע רלוונטי
A39: 8 | B39: האם עומדות נגדך תביעות פתוחות במס הכנסה או במע"מ?
A40: 8.1 | B40: אם כן, יש לפרט את פרטי התביעה, גובה החוב וכל פרט רלוונטי נוסף | N40: מס' תיק | Q40: גובה החוב | T40: מידע רלוונטי
A51: 9 | B51: האם יש לך חובות הנמצאים בהליך גבייה מול המרכז לגביית קנסות?
A52: 9.1 | B52: אם כן, יש לפרט את פרטי החובות ככל שקיימים וכל פרט רלוונטי נוסף | N52: מס' תיק | Q52: גובה החוב | T52: מידע רלוונטי
A63: 10 | B63: האם הוכרזת במהלך שבע השנים האחרונות כפושט רגל?
A64: 10.1 | B64: אם כן, מה סטטוס ההכרזה נכון ליום הגשת הבקשה?
A65: 11 | B65: האם החזקת ברישיון או ברישום שהותלה על ידי גורם מפקח אחר (אינו רשם נש"מ)?
A66: 11.1 | B66: אם כן, יש לצרף את מכתב ההתלייה ולפרט את עיקר הנימוקים באמצעות מערכת הרישוי המקוונת ולפרט בטופס זה את עיקר הנימוקים
A67: 12 | B67: האם החזקת ברישיון או ברישום שבוטל/ה על ידי גורם מפקח אחר (שגם אינו רשם נש"מ)?
A68: 12.1 | B68: אם כן, יש לצרף את מכתב הביטול ולפרט את עיקר הנימוקים באמצעות מערכת הרישוי המקוונת ולפרט בטופס זה את עיקר הנימוקים
A69: 16 | B69: האם הגשת בעבר בקשה להירשם במרשם נותני שירותי מטבע או בקשה לקבל רישיון אחר מאת המפקח על נותני שירותים פיננסיים?
A70: 16.1 | B70: אם כן, יש לפרט | W70: מס' בקשה (אם קיים) | Z70: סוג מזהה | AC70: מס' זיהוי | AF70: האם הבקשה נדחתה? | AI70: האם הוגש ערעור?
A81: 18 | B81: במידה והחזקת ברישיון אחר או בתעודת נותן שירותי מטבע, האם רישומך במרשם נותני שירותי מטבע הותלה על ידי הרשם?
A82: 18.1 | B82: אם כן יש לצרף מסמכים רלוונטים באמצעות מערכת הרישוי המקוונת ולפרט בטופס זה את עיקר הנימוקים
A83: 19 | B83: במידה והחזקת ברישיון אחר או בתעודת נותן שירותי מטבע, האם רישומך במרשם נותני שירותי מטבע בוטל על ידי הרשם?
A84: 19.1 | B84: אם כן יש לצרף מסמכים רלוונטים באמצעות מערכת הרישוי המקוונת ולפרט בטופס זה את עיקר הנימוקים
A85: 20 | B85: במידה והחזקת ברישיון אחר או בתעודת נותן שירותי מטבע, האם הוטלו עליך עיצומים?
A86: 20.1 | B86: אם כן יש לצרף מסמכים רלוונטים באמצעות מערכת הרישוי המקוונת ולפרט בטופס זה את עיקר הדברים
A87: 21 | B87: במידה והחזקת ברישיון אחר או בתעודת נותן שירותי מטבע, האם בוצע שימוע בעניינך, לרבות ביטול דרישה לביטול רישיון, להתליית רישיון או להטלת עיצום כספי?
A88: 21.1 | B88: אם כן יש לצרף מסמכים רלוונטים באמצעות מערכת הרישוי המקוונת ולפרט בטופס זה את עיקר הדברים
A89: 22 | B89: האם קיים קשר עסקי לחברות בחו"ל?
A90: 22.1 | B90: אם כן, נא לפרט
A91: 23 | B91: האם ישנו קרוב משפחה שעובד או עבד בעבר כנותן שירותי מטבע או נותן שירות פיננסי?
A92: 23.1 | B92: אם כן, יש לפרט את הפרטים הבאים עבור כל קרוב משפחה ועבור כל מקום עבודה רלוונטי שעבד בו | Q92: שם מלא | T92: סוג מזהה | W92: מס' מזהה | Z92: שם נותן השירות | AC92: מס' רישיון/רישום | AF92: תפקיד | AI92: האם סיים תפקידו?
A103: 24 | B103: האם ישנו קרוב משפחה המחזיק באמצעי שליטה כיום או ב-3 השנים האחרונות בנותן שירותי מטבע או בנותן שירות פיננסי?
A104: 24.1 | B104: אם כן, יש לפרט את הפרטים הבאים עבור כל קרוב משפחה ועבור כל נותן שירותי מטבע | Q104: שם מלא | T104: סוג מזהה | W104: מס' מזהה | Z104: שם נותן השירות | AC104: מס' רישיון/רישום | AF104: אמצעי שליטה | AI104: שיעור החזקה/ השליטה בפועל (%) | AL104: פירוט - שדה זה רלוונטי רק כאשר הוזן אמצעי שליטה "אחר"
A115: 25 | B115: האם ישנו קרוב משפחה שהגיש בקשה לרישום נותן שירותי מטבע או לקבלת רישיון בנותן שירות פיננסי, כיום או בעבר ?
A116: 25.1 | B116: אם כן, יש לפרט את הפרטים הבאים עבור כל קרוב משפחה ועבור כל מקום עבודה רלוונטי שעבד בו | Q116: מס' בקשה (אם קיים) | T116: סוג מזהה | W116: מס' זיהוי | Z116: האם הבקשה נדחתה? | AC116: האם הוגש ערעור?
A127: 26 | B127: האם מבקש הרישיון הוא בעל השפעה או מחזיק באמצעי שליטה בנותן שירותים פיננסיים אחר?
A128: 26.1 | B128: אם כן, יש לפרט את הפרטים הבאים | J128: שם נותן השירותים הפיננסיים | Q128: סוג מזהה | T128: מס' מזהה | W128: אמצעי השליטה | Z128: שיעור החזקה בפועל | AC128: פירוט - שדה זה רלוונטי רק כאשר הוזן אמצעי שליטה "אחר"
A139: 27 | B139: האם היית בעבר בעל עסק של נותן שירותי מטבע או נותן שירות פיננסי?
A140: 27.1 | B140: אם כן, יש לציין את פרטי העסק והסיבה לסגירה | Q140: שם נותן השירותים הפיננסיים | X140: מס' רישיון | AA140: הסיבה לסגירה
A151: 28 | B151: האם קיימת עילה המונעת ממך לשמש כנושא משרה בתאגיד (למשל החלטה, צו או פסק דין של בית משפט)?
A152: 28.1 | B152: אם כן, יש לפרט
A153: 29 | B153: האם הגשת בעבר בקשה לקבל היתר החזקה או שליטה על ידי גורם מפקח כלשהו?
A154: 29.1 | B154: אם כן, יש לפרט | T154: גורם מפקח | V154: גורם מפקח | W154: מס' בקשה (אם קיים) | Z154: סוג מזהה | AC154: מס' זיהוי | AF154: האם הבקשה נדחתה? | AI154: האם הוגש ערעור? | AL154: האם הבקשה בוטלה? | AM154: האם
A165: 30 | B165: במידה והחזקת בהיתר החזקה או שליטה, האם ההיתר הותלה?
A166: 30.1 | B166: אם כן יש לצרף מסמכים רלוונטים באמצעות מערכת הרישוי המקוונת ולפרט בטופס זה את עיקר הנימוקים
A167: 31 | B167: במידה והחזקת בהיתר החזקה או שליטה האם ההיתר בוטל?
A168: 31.1 | B168: אם כן יש לצרף מסמכים רלוונטים באמצעות מערכת הרישוי המקוונת ולפרט בטופס זה את עיקר הנימוקים
A169: 32 | B169: במידה והחזקת בהיתר החזקה או שליטה, האם הוטלו עליך עיצומים?
A170: 32.1 | B170: אם כן יש לצרף מסמכים רלוונטים באמצעות מערכת הרישוי המקוונת ולפרט בטופס זה את עיקר הדברים
A171: 33 | B171: במידה והחזקת ברהיתר החזקה או שליטה, האם בוצע שימוע בעניינך, לרבות ביטול דרישה לביטול רישיון, להתליית רישיון או להטלת עיצום כספי?
A172: 33.1 | B172: אם כן יש לצרף מסמכים רלוונטים באמצעות מערכת הרישוי המקוונת ולפרט בטופס זה את עיקר הדברים

Sheet T2(4)
A1: חלק א'
A2: פרטי העסק
A3: 1 | B3: שם מבקש הרישיון | F3: ='T1'!F8 -> 0
A4: 2 | B4: סוג מזהה | F4: ='T1'!F9 -> 0
A5: 3 | B5: מס' זיהוי | F5: ='T1'!F10 -> 0
A6: 1 | B6: שם מבקש ההיתר
A7: 2 | B7: סוג מזהה
A8: 3 | B8: מס' זיהוי
A10: חלק ב'
A11: הצהרות
A12: 4 | B12: האם אחד הבנקים סירב לפתוח עבורך חשבון?
A13: 4.1 | B13: אם כן, מהן הסיבות לסירוב? יש לפרט כל פרט רלוונטי נוסף
A14: 5 | B14: האם חשבון הבנק שלך הוגבל בעבר?
A15: 5.1 | B15: אם כן, מהן הסיבות להגבלה? יש לפרט כל פרט רלוונטי נוסף
A16: 6 | B16: האם קיים בעניינך רישום במרשם הפלילי (כמשמעותו בחוק המרשם הפלילי ותקנת השבים, התשמ"א-1981)?
A17: 6.1 | B17: אם כן יש לציין מהי העבירה ולציין אלו מסמכים צורפו לבקשה | N17: פירוט העבירה | T17: האם העבירה מופיעה בסעיף 15(א)(3)(א) לחוק? | W17: האם בוצעה בישראל? | Z17: העתק כתב אישום | AC17: פס"ד | AF17: גזר דין | AI17: אישור תרגום נוטוריון | AL17: האם צורפו מסמכים אחרים? | AO17: מספר מסמכים שצורפו
A27: 7 | B27: האם קיימים נגדך תיקים פתוחים בהוצאה לפועל?
A28: 7.1 | B28: אם כן, יש לפרט את פרטי התיקים, גובה החוב וכל פרט רלוונטי נוסף | N28: מס' תיק | Q28: גובה החוב | T28: מידע רלוונטי
A39: 8 | B39: האם עומדות נגדך תביעות פתוחות במס הכנסה או במע"מ?
A40: 8.1 | B40: אם כן, יש לפרט את פרטי התביעה, גובה החוב וכל פרט רלוונטי נוסף | N40: מס' תיק | Q40: גובה החוב | T40: מידע רלוונטי
A51: 9 | B51: האם יש לך חובות הנמצאים בהליך גבייה מול המרכז לגביית קנסות?
A52: 9.1 | B52: אם כן, יש לפרט את פרטי החובות ככל שקיימים וכל פרט רלוונטי נוסף | N52: מס' תיק | Q52: גובה החוב | T52: מידע רלוונטי
A63: 10 | B63: האם הוכרזת במהלך שבע השנים האחרונות כפושט רגל?
A64: 10.1 | B64: אם כן, מה סטטוס ההכרזה נכון ליום הגשת הבקשה?
A65: 11 | B65: האם החזקת ברישיון או ברישום שהותלה על ידי גורם מפקח אחר (אינו רשם נש"מ)?
A66: 11.1 | B66: אם כן, יש לצרף את מכתב ההתלייה ולפרט את עיקר הנימוקים באמצעות מערכת הרישוי המקוונת ולפרט בטופס זה את עיקר הנימוקים
A67: 12 | B67: האם החזקת ברישיון או ברישום שבוטל/ה על ידי גורם מפקח אחר (שגם אינו רשם נש"מ)?
A68: 12.1 | B68: אם כן, יש לצרף את מכתב הביטול ולפרט את עיקר הנימוקים באמצעות מערכת הרישוי המקוונת ולפרט בטופס זה את עיקר הנימוקים
A69: 16 | B69: האם הגשת בעבר בקשה להירשם במרשם נותני שירותי מטבע או בקשה לקבל רישיון אחר מאת המפקח על נותני שירותים פיננסיים?
A70: 16.1 | B70: אם כן, יש לפרט | W70: מס' בקשה (אם קיים) | Z70: סוג מזהה | AC70: מס' זיהוי | AF70: האם הבקשה נדחתה? | AI70: האם הוגש ערעור?
A81: 18 | B81: במידה והחזקת ברישיון אחר או בתעודת נותן שירותי מטבע, האם רישומך במרשם נותני שירותי מטבע הותלה על ידי הרשם?
A82: 18.1 | B82: אם כן יש לצרף מסמכים רלוונטים באמצעות מערכת הרישוי המקוונת ולפרט בטופס זה את עיקר הנימוקים
A83: 19 | B83: במידה והחזקת ברישיון אחר או בתעודת נותן שירותי מטבע, האם רישומך במרשם נותני שירותי מטבע בוטל על ידי הרשם?
A84: 19.1 | B84: אם כן יש לצרף מסמכים רלוונטים באמצעות מערכת הרישוי המקוונת ולפרט בטופס זה את עיקר הנימוקים
A85: 20 | B85: במידה והחזקת ברישיון אחר או בתעודת נותן שירותי מטבע, האם הוטלו עליך עיצומים?
A86: 20.1 | B86: אם כן יש לצרף מסמכים רלוונטים באמצעות מערכת הרישוי המקוונת ולפרט בטופס זה את עיקר הדברים
A87: 21 | B87: במידה והחזקת ברישיון אחר או בתעודת נותן שירותי מטבע, האם בוצע שימוע בעניינך, לרבות ביטול דרישה לביטול רישיון, להתליית רישיון או להטלת עיצום כספי?
A88: 21.1 | B88: אם כן יש לצרף מסמכים רלוונטים באמצעות מערכת הרישוי המקוונת ולפרט בטופס זה את עיקר הדברים
A89: 22 | B89: האם קיים קשר עסקי לחברות בחו"ל?
A90: 22.1 | B90: אם כן, נא לפרט
A91: 23 | B91: האם ישנו קרוב משפחה שעובד או עבד בעבר כנותן שירותי מטבע או נותן שירות פיננסי?
A92: 23.1 | B92: אם כן, יש לפרט את הפרטים הבאים עבור כל קרוב משפחה ועבור כל מקום עבודה רלוונטי שעבד בו | Q92: שם מלא | T92: סוג מזהה | W92: מס' מזהה | Z92: שם נותן השירות | AC92: מס' רישיון/רישום | AF92: תפקיד | AI92: האם סיים תפקידו?
A103: 24 | B103: האם ישנו קרוב משפחה המחזיק באמצעי שליטה כיום או ב-3 השנים האחרונות בנותן שירותי מטבע או בנותן שירות פיננסי?
A104: 24.1 | B104: אם כן, יש לפרט את הפרטים הבאים עבור כל קרוב משפחה ועבור כל נותן שירותי מטבע | Q104: שם מלא | T104: סוג מזהה | W104: מס' מזהה | Z104: שם נותן השירות | AC104: מס' רישיון/רישום | AF104: אמצעי שליטה | AI104: שיעור החזקה/ השליטה בפועל (%) | AL104: פירוט - שדה זה רלוונטי רק כאשר הוזן אמצעי שליטה "אחר"
A115: 25 | B115: האם ישנו קרוב משפחה שהגיש בקשה לרישום נותן שירותי מטבע או לקבלת רישיון בנותן שירות פיננסי, כיום או בעבר ?
A116: 25.1 | B116: אם כן, יש לפרט את הפרטים הבאים עבור כל קרוב משפחה ועבור כל מקום עבודה רלוונטי שעבד בו | Q116: מס' בקשה (אם קיים) | T116: סוג מזהה | W116: מס' זיהוי | Z116: האם הבקשה נדחתה? | AC116: האם הוגש ערעור?
A127: 26 | B127: האם מבקש הרישיון הוא בעל השפעה או מחזיק באמצעי שליטה בנותן שירותים פיננסיים אחר?
A128: 26.1 | B128: אם כן, יש לפרט את הפרטים הבאים | J128: שם נותן השירותים הפיננסיים | Q128: סוג מזהה | T128: מס' מזהה | W128: אמצעי השליטה | Z128: שיעור החזקה בפועל | AC128: פירוט - שדה זה רלוונטי רק כאשר הוזן אמצעי שליטה "אחר"
A139: 27 | B139: האם היית בעבר בעל עסק של נותן שירותי מטבע או נותן שירות פיננסי?
A140: 27.1 | B140: אם כן, יש לציין את פרטי העסק והסיבה לסגירה | Q140: שם נותן השירותים הפיננסיים | X140: מס' רישיון | AA140: הסיבה לסגירה
A151: 28 | B151: האם קיימת עילה המונעת ממך לשמש כנושא משרה בתאגיד (למשל החלטה, צו או פסק דין של בית משפט)?
A152: 28.1 | B152: אם כן, יש לפרט
A153: 29 | B153: האם הגשת בעבר בקשה לקבל היתר החזקה או שליטה על ידי גורם מפקח כלשהו?
A154: 29.1 | B154: אם כן, יש לפרט | T154: גורם מפקח | V154: גורם מפקח | W154: מס' בקשה (אם קיים) | Z154: סוג מזהה | AC154: מס' זיהוי | AF154: האם הבקשה נדחתה? | AI154: האם הוגש ערעור? | AL154: האם הבקשה בוטלה? | AM154: האם
A165: 30 | B165: במידה והחזקת בהיתר החזקה או שליטה, האם ההיתר הותלה?
A166: 30.1 | B166: אם כן יש לצרף מסמכים רלוונטים באמצעות מערכת הרישוי המקוונת ולפרט בטופס זה את עיקר הנימוקים
A167: 31 | B167: במידה והחזקת בהיתר החזקה או שליטה האם ההיתר בוטל?
A168: 31.1 | B168: אם כן יש לצרף מסמכים רלוונטים באמצעות מערכת הרישוי המקוונת ולפרט בטופס זה את עיקר הנימוקים
A169: 32 | B169: במידה והחזקת בהיתר החזקה או שליטה, האם הוטלו עליך עיצומים?
A170: 32.1 | B170: אם כן יש לצרף מסמכים רלוונטים באמצעות מערכת הרישוי המקוונת ולפרט בטופס זה את עיקר הדברים
A171: 33 | B171: במידה והחזקת ברהיתר החזקה או שליטה, האם בוצע שימוע בעניינך, לרבות ביטול דרישה לביטול רישיון, להתליית רישיון או להטלת עיצום כספי?
A172: 33.1 | B172: אם כן יש לצרף מסמכים רלוונטים באמצעות מערכת הרישוי המקוונת ולפרט בטופס זה את עיקר הדברים

Sheet T2(5)
A1: חלק א'
A2: פרטי העסק
A3: 1 | B3: שם מבקש הרישיון | F3: ='T1'!F8 -> 0
A4: 2 | B4: סוג מזהה | F4: ='T1'!F9 -> 0
A5: 3 | B5: מס' זיהוי | F5: ='T1'!F10 -> 0
A6: 1 | B6: שם מבקש ההיתר
A7: 2 | B7: סוג מזהה
A8: 3 | B8: מס' זיהוי
A10: חלק ב'
A11: הצהרות
A12: 4 | B12: האם אחד הבנקים סירב לפתוח עבורך חשבון?
A13: 4.1 | B13: אם כן, מהן הסיבות לסירוב? יש לפרט כל פרט רלוונטי נוסף
A14: 5 | B14: האם חשבון הבנק שלך הוגבל בעבר?
A15: 5.1 | B15: אם כן, מהן הסיבות להגבלה? יש לפרט כל פרט רלוונטי נוסף
A16: 6 | B16: האם קיים בעניינך רישום במרשם הפלילי (כמשמעותו בחוק המרשם הפלילי ותקנת השבים, התשמ"א-1981)?
A17: 6.1 | B17: אם כן יש לציין מהי העבירה ולציין אלו מסמכים צורפו לבקשה | N17: פירוט העבירה | T17: האם העבירה מופיעה בסעיף 15(א)(3)(א) לחוק? | W17: האם בוצעה בישראל? | Z17: העתק כתב אישום | AC17: פס"ד | AF17: גזר דין | AI17: אישור תרגום נוטוריון | AL17: האם צורפו מסמכים אחרים? | AO17: מספר מסמכים שצורפו
A27: 7 | B27: האם קיימים נגדך תיקים פתוחים בהוצאה לפועל?
A28: 7.1 | B28: אם כן, יש לפרט את פרטי התיקים, גובה החוב וכל פרט רלוונטי נוסף | N28: מס' תיק | Q28: גובה החוב | T28: מידע רלוונטי
A39: 8 | B39: האם עומדות נגדך תביעות פתוחות במס הכנסה או במע"מ?
A40: 8.1 | B40: אם כן, יש לפרט את פרטי התביעה, גובה החוב וכל פרט רלוונטי נוסף | N40: מס' תיק | Q40: גובה החוב | T40: מידע רלוונטי
A51: 9 | B51: האם יש לך חובות הנמצאים בהליך גבייה מול המרכז לגביית קנסות?
A52: 9.1 | B52: אם כן, יש לפרט את פרטי החובות ככל שקיימים וכל פרט רלוונטי נוסף | N52: מס' תיק | Q52: גובה החוב | T52: מידע רלוונטי
A63: 10 | B63: האם הוכרזת במהלך שבע השנים האחרונות כפושט רגל?
A64: 10.1 | B64: אם כן, מה סטטוס ההכרזה נכון ליום הגשת הבקשה?
A65: 11 | B65: האם החזקת ברישיון או ברישום שהותלה על ידי גורם מפקח אחר (אינו רשם נש"מ)?
A66: 11.1 | B66: אם כן, יש לצרף את מכתב ההתלייה ולפרט את עיקר הנימוקים באמצעות מערכת הרישוי המקוונת ולפרט בטופס זה את עיקר הנימוקים
A67: 12 | B67: האם החזקת ברישיון או ברישום שבוטל/ה על ידי גורם מפקח אחר (שגם אינו רשם נש"מ)?
A68: 12.1 | B68: אם כן, יש לצרף את מכתב הביטול ולפרט את עיקר הנימוקים באמצעות מערכת הרישוי המקוונת ולפרט בטופס זה את עיקר הנימוקים
A69: 16 | B69: האם הגשת בעבר בקשה להירשם במרשם נותני שירותי מטבע או בקשה לקבל רישיון אחר מאת המפקח על נותני שירותים פיננסיים?
A70: 16.1 | B70: אם כן, יש לפרט | W70: מס' בקשה (אם קיים) | Z70: סוג מזהה | AC70: מס' זיהוי | AF70: האם הבקשה נדחתה? | AI70: האם הוגש ערעור?
A81: 18 | B81: במידה והחזקת ברישיון אחר או בתעודת נותן שירותי מטבע, האם רישומך במרשם נותני שירותי מטבע הותלה על ידי הרשם?
A82: 18.1 | B82: אם כן יש לצרף מסמכים רלוונטים באמצעות מערכת הרישוי המקוונת ולפרט בטופס זה את עיקר הנימוקים
A83: 19 | B83: במידה והחזקת ברישיון אחר או בתעודת נותן שירותי מטבע, האם רישומך במרשם נותני שירותי מטבע בוטל על ידי הרשם?
A84: 19.1 | B84: אם כן יש לצרף מסמכים רלוונטים באמצעות מערכת הרישוי המקוונת ולפרט בטופס זה את עיקר הנימוקים
A85: 20 | B85: במידה והחזקת ברישיון אחר או בתעודת נותן שירותי מטבע, האם הוטלו עליך עיצומים?
A86: 20.1 | B86: אם כן יש לצרף מסמכים רלוונטים באמצעות מערכת הרישוי המקוונת ולפרט בטופס זה את עיקר הדברים
A87: 21 | B87: במידה והחזקת ברישיון אחר או בתעודת נותן שירותי מטבע, האם בוצע שימוע בעניינך, לרבות ביטול דרישה לביטול רישיון, להתליית רישיון או להטלת עיצום כספי?
A88: 21.1 | B88: אם כן יש לצרף מסמכים רלוונטים באמצעות מערכת הרישוי המקוונת ולפרט בטופס זה את עיקר הדברים
A89: 22 | B89: האם קיים קשר עסקי לחברות בחו"ל?
A90: 22.1 | B90: אם כן, נא לפרט
A91: 23 | B91: האם ישנו קרוב משפחה שעובד או עבד בעבר כנותן שירותי מטבע או נותן שירות פיננסי?
A92: 23.1 | B92: אם כן, יש לפרט את הפרטים הבאים עבור כל קרוב משפחה ועבור כל מקום עבודה רלוונטי שעבד בו | Q92: שם מלא | T92: סוג מזהה | W92: מס' מזהה | Z92: שם נותן השירות | AC92: מס' רישיון/רישום | AF92: תפקיד | AI92: האם סיים תפקידו?
A103: 24 | B103: האם ישנו קרוב משפחה המחזיק באמצעי שליטה כיום או ב-3 השנים האחרונות בנותן שירותי מטבע או בנותן שירות פיננסי?
A104: 24.1 | B104: אם כן, יש לפרט את הפרטים הבאים עבור כל קרוב משפחה ועבור כל נותן שירותי מטבע | Q104: שם מלא | T104: סוג מזהה | W104: מס' מזהה | Z104: שם נותן השירות | AC104: מס' רישיון/רישום | AF104: אמצעי שליטה | AI104: שיעור החזקה/ השליטה בפועל (%) | AL104: פירוט - שדה זה רלוונטי רק כאשר הוזן אמצעי שליטה "אחר"
A115: 25 | B115: האם ישנו קרוב משפחה שהגיש בקשה לרישום נותן שירותי מטבע או לקבלת רישיון בנותן שירות פיננסי, כיום או בעבר ?
A116: 25.1 | B116: אם כן, יש לפרט את הפרטים הבאים עבור כל קרוב משפחה ועבור כל מקום עבודה רלוונטי שעבד בו | Q116: מס' בקשה (אם קיים) | T116: סוג מזהה | W116: מס' זיהוי | Z116: האם הבקשה נדחתה? | AC116: האם הוגש ערעור?
A127: 26 | B127: האם מבקש הרישיון הוא בעל השפעה או מחזיק באמצעי שליטה בנותן שירותים פיננסיים אחר?
A128: 26.1 | B128: אם כן, יש לפרט את הפרטים הבאים | J128: שם נותן השירותים הפיננסיים | Q128: סוג מזהה | T128: מס' מזהה | W128: אמצעי השליטה | Z128: שיעור החזקה בפועל | AC128: פירוט - שדה זה רלוונטי רק כאשר הוזן אמצעי שליטה "אחר"
A139: 27 | B139: האם היית בעבר בעל עסק של נותן שירותי מטבע או נותן שירות פיננסי?
A140: 27.1 | B140: אם כן, יש לציין את פרטי העסק והסיבה לסגירה | Q140: שם נותן השירותים הפיננסיים | X140: מס' רישיון | AA140: הסיבה לסגירה
A151: 28 | B151: האם קיימת עילה המונעת ממך לשמש כנושא משרה בתאגיד (למשל החלטה, צו או פסק דין של בית משפט)?
A152: 28.1 | B152: אם כן, יש לפרט
A153: 29 | B153: האם הגשת בעבר בקשה לקבל היתר החזקה או שליטה על ידי גורם מפקח כלשהו?
A154: 29.1 | B154: אם כן, יש לפרט | T154: גורם מפקח | V154: גורם מפקח | W154: מס' בקשה (אם קיים) | Z154: סוג מזהה | AC154: מס' זיהוי | AF154: האם הבקשה נדחתה? | AI154: האם הוגש ערעור? | AL154: האם הבקשה בוטלה? | AM154: האם
A165: 30 | B165: במידה והחזקת בהיתר החזקה או שליטה, האם ההיתר הותלה?
A166: 30.1 | B166: אם כן יש לצרף מסמכים רלוונטים באמצעות מערכת הרישוי המקוונת ולפרט בטופס זה את עיקר הנימוקים
A167: 31 | B167: במידה והחזקת בהיתר החזקה או שליטה האם ההיתר בוטל?
A168: 31.1 | B168: אם כן יש לצרף מסמכים רלוונטים באמצעות מערכת הרישוי המקוונת ולפרט בטופס זה את עיקר הנימוקים
A169: 32 | B169: במידה והחזקת בהיתר החזקה או שליטה, האם הוטלו עליך עיצומים?
A170: 32.1 | B170: אם כן יש לצרף מסמכים רלוונטים באמצעות מערכת הרישוי המקוונת ולפרט בטופס זה את עיקר הדברים
A171: 33 | B171: במידה והחזקת ברהיתר החזקה או שליטה, האם בוצע שימוע בעניינך, לרבות ביטול דרישה לביטול רישיון, להתליית רישיון או להטלת עיצום כספי?
A172: 33.1 | B172: אם כן יש לצרף מסמכים רלוונטים באמצעות מערכת הרישוי המקוונת ולפרט בטופס זה את עיקר הדברים

Sheet T2(6)
A1: חלק א'
A2: פרטי העסק
A3: 1 | B3: שם מבקש הרישיון | F3: ='T1'!F8 -> 0
A4: 2 | B4: סוג מזהה | F4: ='T1'!F9 -> 0
A5: 3 | B5: מס' זיהוי | F5: ='T1'!F10 -> 0
A6: 1 | B6: שם מבקש ההיתר
A7: 2 | B7: סוג מזהה
A8: 3 | B8: מס' זיהוי
A10: חלק ב'
A11: הצהרות
A12: 4 | B12: האם אחד הבנקים סירב לפתוח עבורך חשבון?
A13: 4.1 | B13: אם כן, מהן הסיבות לסירוב? יש לפרט כל פרט רלוונטי נוסף
A14: 5 | B14: האם חשבון הבנק שלך הוגבל בעבר?
A15: 5.1 | B15: אם כן, מהן הסיבות להגבלה? יש לפרט כל פרט רלוונטי נוסף
A16: 6 | B16: האם קיים בעניינך רישום במרשם הפלילי (כמשמעותו בחוק המרשם הפלילי ותקנת השבים, התשמ"א-1981)?
A17: 6.1 | B17: אם כן יש לציין מהי העבירה ולציין אלו מסמכים צורפו לבקשה | N17: פירוט העבירה | T17: האם העבירה מופיעה בסעיף 15(א)(3)(א) לחוק? | W17: האם בוצעה בישראל? | Z17: העתק כתב אישום | AC17: פס"ד | AF17: גזר דין | AI17: אישור תרגום נוטוריון | AL17: האם צורפו מסמכים אחרים? | AO17: מספר מסמכים שצורפו
A27: 7 | B27: האם קיימים נגדך תיקים פתוחים בהוצאה לפועל?
A28: 7.1 | B28: אם כן, יש לפרט את פרטי התיקים, גובה החוב וכל פרט רלוונטי נוסף | N28: מס' תיק | Q28: גובה החוב | T28: מידע רלוונטי
A39: 8 | B39: האם עומדות נגדך תביעות פתוחות במס הכנסה או במע"מ?
A40: 8.1 | B40: אם כן, יש לפרט את פרטי התביעה, גובה החוב וכל פרט רלוונטי נוסף | N40: מס' תיק | Q40: גובה החוב | T40: מידע רלוונטי
A51: 9 | B51: האם יש לך חובות הנמצאים בהליך גבייה מול המרכז לגביית קנסות?
A52: 9.1 | B52: אם כן, יש לפרט את פרטי החובות ככל שקיימים וכל פרט רלוונטי נוסף | N52: מס' תיק | Q52: גובה החוב | T52: מידע רלוונטי
A63: 10 | B63: האם הוכרזת במהלך שבע השנים האחרונות כפושט רגל?
A64: 10.1 | B64: אם כן, מה סטטוס ההכרזה נכון ליום הגשת הבקשה?
A65: 11 | B65: האם החזקת ברישיון או ברישום שהותלה על ידי גורם מפקח אחר (אינו רשם נש"מ)?
A66: 11.1 | B66: אם כן, יש לצרף את מכתב ההתלייה ולפרט את עיקר הנימוקים באמצעות מערכת הרישוי המקוונת ולפרט בטופס זה את עיקר הנימוקים
A67: 12 | B67: האם החזקת ברישיון או ברישום שבוטל/ה על ידי גורם מפקח אחר (שגם אינו רשם נש"מ)?
A68: 12.1 | B68: אם כן, יש לצרף את מכתב הביטול ולפרט את עיקר הנימוקים באמצעות מערכת הרישוי המקוונת ולפרט בטופס זה את עיקר הנימוקים
A69: 16 | B69: האם הגשת בעבר בקשה להירשם במרשם נותני שירותי מטבע או בקשה לקבל רישיון אחר מאת המפקח על נותני שירותים פיננסיים?
A70: 16.1 | B70: אם כן, יש לפרט | W70: מס' בקשה (אם קיים) | Z70: סוג מזהה | AC70: מס' זיהוי | AF70: האם הבקשה נדחתה? | AI70: האם הוגש ערעור?
A81: 18 | B81: במידה והחזקת ברישיון אחר או בתעודת נותן שירותי מטבע, האם רישומך במרשם נותני שירותי מטבע הותלה על ידי הרשם?
A82: 18.1 | B82: אם כן יש לצרף מסמכים רלוונטים באמצעות מערכת הרישוי המקוונת ולפרט בטופס זה את עיקר הנימוקים
A83: 19 | B83: במידה והחזקת ברישיון אחר או בתעודת נותן שירותי מטבע, האם רישומך במרשם נותני שירותי מטבע בוטל על ידי הרשם?
A84: 19.1 | B84: אם כן יש לצרף מסמכים רלוונטים באמצעות מערכת הרישוי המקוונת ולפרט בטופס זה את עיקר הנימוקים
A85: 20 | B85: במידה והחזקת ברישיון אחר או בתעודת נותן שירותי מטבע, האם הוטלו עליך עיצומים?
A86: 20.1 | B86: אם כן יש לצרף מסמכים רלוונטים באמצעות מערכת הרישוי המקוונת ולפרט בטופס זה את עיקר הדברים
A87: 21 | B87: במידה והחזקת ברישיון אחר או בתעודת נותן שירותי מטבע, האם בוצע שימוע בעניינך, לרבות ביטול דרישה לביטול רישיון, להתליית רישיון או להטלת עיצום כספי?
A88: 21.1 | B88: אם כן יש לצרף מסמכים רלוונטים באמצעות מערכת הרישוי המקוונת ולפרט בטופס זה את עיקר הדברים
A89: 22 | B89: האם קיים קשר עסקי לחברות בחו"ל?
A90: 22.1 | B90: אם כן, נא לפרט
A91: 23 | B91: האם ישנו קרוב משפחה שעובד או עבד בעבר כנותן שירותי מטבע או נותן שירות פיננסי?
A92: 23.1 | B92: אם כן, יש לפרט את הפרטים הבאים עבור כל קרוב משפחה ועבור כל מקום עבודה רלוונטי שעבד בו | Q92: שם מלא | T92: סוג מזהה | W92: מס' מזהה | Z92: שם נותן השירות | AC92: מס' רישיון/רישום | AF92: תפקיד | AI92: האם סיים תפקידו?
A103: 24 | B103: האם ישנו קרוב משפחה המחזיק באמצעי שליטה כיום או ב-3 השנים האחרונות בנותן שירותי מטבע או בנותן שירות פיננסי?
A104: 24.1 | B104: אם כן, יש לפרט את הפרטים הבאים עבור כל קרוב משפחה ועבור כל נותן שירותי מטבע | Q104: שם מלא | T104: סוג מזהה | W104: מס' מזהה | Z104: שם נותן השירות | AC104: מס' רישיון/רישום | AF104: אמצעי שליטה | AI104: שיעור החזקה/ השליטה בפועל (%) | AL104: פירוט - שדה זה רלוונטי רק כאשר הוזן אמצעי שליטה "אחר"
A115: 25 | B115: האם ישנו קרוב משפחה שהגיש בקשה לרישום נותן שירותי מטבע או לקבלת רישיון בנותן שירות פיננסי, כיום או בעבר ?
A116: 25.1 | B116: אם כן, יש לפרט את הפרטים הבאים עבור כל קרוב משפחה ועבור כל מקום עבודה רלוונטי שעבד בו | Q116: מס' בקשה (אם קיים) | T116: סוג מזהה | W116: מס' זיהוי | Z116: האם הבקשה נדחתה? | AC116: האם הוגש ערעור?
A127: 26 | B127: האם מבקש הרישיון הוא בעל השפעה או מחזיק באמצעי שליטה בנותן שירותים פיננסיים אחר?
A128: 26.1 | B128: אם כן, יש לפרט את הפרטים הבאים | J128: שם נותן השירותים הפיננסיים | Q128: סוג מזהה | T128: מס' מזהה | W128: אמצעי השליטה | Z128: שיעור החזקה בפועל | AC128: פירוט - שדה זה רלוונטי רק כאשר הוזן אמצעי שליטה "אחר"
A139: 27 | B139: האם היית בעבר בעל עסק של נותן שירותי מטבע או נותן שירות פיננסי?
A140: 27.1 | B140: אם כן, יש לציין את פרטי העסק והסיבה לסגירה | Q140: שם נותן השירותים הפיננסיים | X140: מס' רישיון | AA140: הסיבה לסגירה
A151: 28 | B151: האם קיימת עילה המונעת ממך לשמש כנושא משרה בתאגיד (למשל החלטה, צו או פסק דין של בית משפט)?
A152: 28.1 | B152: אם כן, יש לפרט
A153: 29 | B153: האם הגשת בעבר בקשה לקבל היתר החזקה או שליטה על ידי גורם מפקח כלשהו?
A154: 29.1 | B154: אם כן, יש לפרט | T154: גורם מפקח | V154: גורם מפקח | W154: מס' בקשה (אם קיים) | Z154: סוג מזהה | AC154: מס' זיהוי | AF154: האם הבקשה נדחתה? | AI154: האם הוגש ערעור? | AL154: האם הבקשה בוטלה? | AM154: האם
A165: 30 | B165: במידה והחזקת בהיתר החזקה או שליטה, האם ההיתר הותלה?
A166: 30.1 | B166: אם כן יש לצרף מסמכים רלוונטים באמצעות מערכת הרישוי המקוונת ולפרט בטופס זה את עיקר הנימוקים
A167: 31 | B167: במידה והחזקת בהיתר החזקה או שליטה האם ההיתר בוטל?
A168: 31.1 | B168: אם כן יש לצרף מסמכים רלוונטים באמצעות מערכת הרישוי המקוונת ולפרט בטופס זה את עיקר הנימוקים
A169: 32 | B169: במידה והחזקת בהיתר החזקה או שליטה, האם הוטלו עליך עיצומים?
A170: 32.1 | B170: אם כן יש לצרף מסמכים רלוונטים באמצעות מערכת הרישוי המקוונת ולפרט בטופס זה את עיקר הדברים
A171: 33 | B171: במידה והחזקת ברהיתר החזקה או שליטה, האם בוצע שימוע בעניינך, לרבות ביטול דרישה לביטול רישיון, להתליית רישיון או להטלת עיצום כספי?
A172: 33.1 | B172: אם כן יש לצרף מסמכים רלוונטים באמצעות מערכת הרישוי המקוונת ולפרט בטופס זה את עיקר הדברים

Sheet T2(7)
A1: חלק א'
A2: פרטי העסק
A3: 1 | B3: שם מבקש הרישיון | F3: ='T1'!F8 -> 0
A4: 2 | B4: סוג מזהה | F4: ='T1'!F9 -> 0
A5: 3 | B5: מס' זיהוי | F5: ='T1'!F10 -> 0
A6: 1 | B6: שם מבקש ההיתר
A7: 2 | B7: סוג מזהה
A8: 3 | B8: מס' זיהוי
A10: חלק ב'
A11: הצהרות
A12: 4 | B12: האם אחד הבנקים סירב לפתוח עבורך חשבון?
A13: 4.1 | B13: אם כן, מהן הסיבות לסירוב? יש לפרט כל פרט רלוונטי נוסף
A14: 5 | B14: האם חשבון הבנק שלך הוגבל בעבר?
A15: 5.1 | B15: אם כן, מהן הסיבות להגבלה? יש לפרט כל פרט רלוונטי נוסף
A16: 6 | B16: האם קיים בעניינך רישום במרשם הפלילי (כמשמעותו בחוק המרשם הפלילי ותקנת השבים, התשמ"א-1981)?
A17: 6.1 | B17: אם כן יש לציין מהי העבירה ולציין אלו מסמכים צורפו לבקשה | N17: פירוט העבירה | T17: האם העבירה מופיעה בסעיף 15(א)(3)(א) לחוק? | W17: האם בוצעה בישראל? | Z17: העתק כתב אישום | AC17: פס"ד | AF17: גזר דין | AI17: אישור תרגום נוטוריון | AL17: האם צורפו מסמכים אחרים? | AO17: מספר מסמכים שצורפו
A27: 7 | B27: האם קיימים נגדך תיקים פתוחים בהוצאה לפועל?
A28: 7.1 | B28: אם כן, יש לפרט את פרטי התיקים, גובה החוב וכל פרט רלוונטי נוסף | N28: מס' תיק | Q28: גובה החוב | T28: מידע רלוונטי
A39: 8 | B39: האם עומדות נגדך תביעות פתוחות במס הכנסה או במע"מ?
A40: 8.1 | B40: אם כן, יש לפרט את פרטי התביעה, גובה החוב וכל פרט רלוונטי נוסף | N40: מס' תיק | Q40: גובה החוב | T40: מידע רלוונטי
A51: 9 | B51: האם יש לך חובות הנמצאים בהליך גבייה מול המרכז לגביית קנסות?
A52: 9.1 | B52: אם כן, יש לפרט את פרטי החובות ככל שקיימים וכל פרט רלוונטי נוסף | N52: מס' תיק | Q52: גובה החוב | T52: מידע רלוונטי
A63: 10 | B63: האם הוכרזת במהלך שבע השנים האחרונות כפושט רגל?
A64: 10.1 | B64: אם כן, מה סטטוס ההכרזה נכון ליום הגשת הבקשה?
A65: 11 | B65: האם החזקת ברישיון או ברישום שהותלה על ידי גורם מפקח אחר (אינו רשם נש"מ)?
A66: 11.1 | B66: אם כן, יש לצרף את מכתב ההתלייה ולפרט את עיקר הנימוקים באמצעות מערכת הרישוי המקוונת ולפרט בטופס זה את עיקר הנימוקים
A67: 12 | B67: האם החזקת ברישיון או ברישום שבוטל/ה על ידי גורם מפקח אחר (שגם אינו רשם נש"מ)?
A68: 12.1 | B68: אם כן, יש לצרף את מכתב הביטול ולפרט את עיקר הנימוקים באמצעות מערכת הרישוי המקוונת ולפרט בטופס זה את עיקר הנימוקים
A69: 16 | B69: האם הגשת בעבר בקשה להירשם במרשם נותני שירותי מטבע או בקשה לקבל רישיון אחר מאת המפקח על נותני שירותים פיננסיים?
A70: 16.1 | B70: אם כן, יש לפרט | W70: מס' בקשה (אם קיים) | Z70: סוג מזהה | AC70: מס' זיהוי | AF70: האם הבקשה נדחתה? | AI70: האם הוגש ערעור?
A81: 18 | B81: במידה והחזקת ברישיון אחר או בתעודת נותן שירותי מטבע, האם רישומך במרשם נותני שירותי מטבע הותלה על ידי הרשם?
A82: 18.1 | B82: אם כן יש לצרף מסמכים רלוונטים באמצעות מערכת הרישוי המקוונת ולפרט בטופס זה את עיקר הנימוקים
A83: 19 | B83: במידה והחזקת ברישיון אחר או בתעודת נותן שירותי מטבע, האם רישומך במרשם נותני שירותי מטבע בוטל על ידי הרשם?
A84: 19.1 | B84: אם כן יש לצרף מסמכים רלוונטים באמצעות מערכת הרישוי המקוונת ולפרט בטופס זה את עיקר הנימוקים
A85: 20 | B85: במידה והחזקת ברישיון אחר או בתעודת נותן שירותי מטבע, האם הוטלו עליך עיצומים?
A86: 20.1 | B86: אם כן יש לצרף מסמכים רלוונטים באמצעות מערכת הרישוי המקוונת ולפרט בטופס זה את עיקר הדברים
A87: 21 | B87: במידה והחזקת ברישיון אחר או בתעודת נותן שירותי מטבע, האם בוצע שימוע בעניינך, לרבות ביטול דרישה לביטול רישיון, להתליית רישיון או להטלת עיצום כספי?
A88: 21.1 | B88: אם כן יש לצרף מסמכים רלוונטים באמצעות מערכת הרישוי המקוונת ולפרט בטופס זה את עיקר הדברים
A89: 22 | B89: האם קיים קשר עסקי לחברות בחו"ל?
A90: 22.1 | B90: אם כן, נא לפרט
A91: 23 | B91: האם ישנו קרוב משפחה שעובד או עבד בעבר כנותן שירותי מטבע או נותן שירות פיננסי?
A92: 23.1 | B92: אם כן, יש לפרט את הפרטים הבאים עבור כל קרוב משפחה ועבור כל מקום עבודה רלוונטי שעבד בו | Q92: שם מלא | T92: סוג מזהה | W92: מס' מזהה | Z92: שם נותן השירות | AC92: מס' רישיון/רישום | AF92: תפקיד | AI92: האם סיים תפקידו?
A103: 24 | B103: האם ישנו קרוב משפחה המחזיק באמצעי שליטה כיום או ב-3 השנים האחרונות בנותן שירותי מטבע או בנותן שירות פיננסי?
A104: 24.1 | B104: אם כן, יש לפרט את הפרטים הבאים עבור כל קרוב משפחה ועבור כל נותן שירותי מטבע | Q104: שם מלא | T104: סוג מזהה | W104: מס' מזהה | Z104: שם נותן השירות | AC104: מס' רישיון/רישום | AF104: אמצעי שליטה | AI104: שיעור החזקה/ השליטה בפועל (%) | AL104: פירוט - שדה זה רלוונטי רק כאשר הוזן אמצעי שליטה "אחר"
A115: 25 | B115: האם ישנו קרוב משפחה שהגיש בקשה לרישום נותן שירותי מטבע או לקבלת רישיון בנותן שירות פיננסי, כיום או בעבר ?
A116: 25.1 | B116: אם כן, יש לפרט את הפרטים הבאים עבור כל קרוב משפחה ועבור כל מקום עבודה רלוונטי שעבד בו | Q116: מס' בקשה (אם קיים) | T116: סוג מזהה | W116: מס' זיהוי | Z116: האם הבקשה נדחתה? | AC116: האם הוגש ערעור?
A127: 26 | B127: האם מבקש הרישיון הוא בעל השפעה או מחזיק באמצעי שליטה בנותן שירותים פיננסיים אחר?
A128: 26.1 | B128: אם כן, יש לפרט את הפרטים הבאים | J128: שם נותן השירותים הפיננסיים | Q128: סוג מזהה | T128: מס' מזהה | W128: אמצעי השליטה | Z128: שיעור החזקה בפועל | AC128: פירוט - שדה זה רלוונטי רק כאשר הוזן אמצעי שליטה "אחר"
A139: 27 | B139: האם היית בעבר בעל עסק של נותן שירותי מטבע או נותן שירות פיננסי?
A140: 27.1 | B140: אם כן, יש לציין את פרטי העסק והסיבה לסגירה | Q140: שם נותן השירותים הפיננסיים | X140: מס' רישיון | AA140: הסיבה לסגירה
A151: 28 | B151: האם קיימת עילה המונעת ממך לשמש כנושא משרה בתאגיד (למשל החלטה, צו או פסק דין של בית משפט)?
A152: 28.1 | B152: אם כן, יש לפרט
A153: 29 | B153: האם הגשת בעבר בקשה לקבל היתר החזקה או שליטה על ידי גורם מפקח כלשהו?
A154: 29.1 | B154: אם כן, יש לפרט | T154: גורם מפקח | V154: גורם מפקח | W154: מס' בקשה (אם קיים) | Z154: סוג מזהה | AC154: מס' זיהוי | AF154: האם הבקשה נדחתה? | AI154: האם הוגש ערעור? | AL154: האם הבקשה בוטלה? | AM154: האם
A165: 30 | B165: במידה והחזקת בהיתר החזקה או שליטה, האם ההיתר הותלה?
A166: 30.1 | B166: אם כן יש לצרף מסמכים רלוונטים באמצעות מערכת הרישוי המקוונת ולפרט בטופס זה את עיקר הנימוקים
A167: 31 | B167: במידה והחזקת בהיתר החזקה או שליטה האם ההיתר בוטל?
A168: 31.1 | B168: אם כן יש לצרף מסמכים רלוונטים באמצעות מערכת הרישוי המקוונת ולפרט בטופס זה את עיקר הנימוקים
A169: 32 | B169: במידה והחזקת בהיתר החזקה או שליטה, האם הוטלו עליך עיצומים?
A170: 32.1 | B170: אם כן יש לצרף מסמכים רלוונטים באמצעות מערכת הרישוי המקוונת ולפרט בטופס זה את עיקר הדברים
A171: 33 | B171: במידה והחזקת ברהיתר החזקה או שליטה, האם בוצע שימוע בעניינך, לרבות ביטול דרישה לביטול רישיון, להתליית רישיון או להטלת עיצום כספי?
A172: 33.1 | B172: אם כן יש לצרף מסמכים רלוונטים באמצעות מערכת הרישוי המקוונת ולפרט בטופס זה את עיקר הדברים

Sheet T2(8)
A1: חלק א'
A2: פרטי העסק
A3: 1 | B3: שם מבקש הרישיון | F3: ='T1'!F8 -> 0
A4: 2 | B4: סוג מזהה | F4: ='T1'!F9 -> 0
A5: 3 | B5: מס' זיהוי | F5: ='T1'!F10 -> 0
A6: 1 | B6: שם מבקש ההיתר
A7: 2 | B7: סוג מזהה
A8: 3 | B8: מס' זיהוי
A10: חלק ב'
A11: הצהרות
A12: 4 | B12: האם אחד הבנקים סירב לפתוח עבורך חשבון?
A13: 4.1 | B13: אם כן, מהן הסיבות לסירוב? יש לפרט כל פרט רלוונטי נוסף
A14: 5 | B14: האם חשבון הבנק שלך הוגבל בעבר?
A15: 5.1 | B15: אם כן, מהן הסיבות להגבלה? יש לפרט כל פרט רלוונטי נוסף
A16: 6 | B16: האם קיים בעניינך רישום במרשם הפלילי (כמשמעותו בחוק המרשם הפלילי ותקנת השבים, התשמ"א-1981)?
A17: 6.1 | B17: אם כן יש לציין מהי העבירה ולציין אלו מסמכים צורפו לבקשה | N17: פירוט העבירה | T17: האם העבירה מופיעה בסעיף 15(א)(3)(א) לחוק? | W17: האם בוצעה בישראל? | Z17: העתק כתב אישום | AC17: פס"ד | AF17: גזר דין | AI17: אישור תרגום נוטוריון | AL17: האם צורפו מסמכים אחרים? | AO17: מספר מסמכים שצורפו
A27: 7 | B27: האם קיימים נגדך תיקים פתוחים בהוצאה לפועל?
A28: 7.1 | B28: אם כן, יש לפרט את פרטי התיקים, גובה החוב וכל פרט רלוונטי נוסף | N28: מס' תיק | Q28: גובה החוב | T28: מידע רלוונטי
A39: 8 | B39: האם עומדות נגדך תביעות פתוחות במס הכנסה או במע"מ?
A40: 8.1 | B40: אם כן, יש לפרט את פרטי התביעה, גובה החוב וכל פרט רלוונטי נוסף | N40: מס' תיק | Q40: גובה החוב | T40: מידע רלוונטי
A51: 9 | B51: האם יש לך חובות הנמצאים בהליך גבייה מול המרכז לגביית קנסות?
A52: 9.1 | B52: אם כן, יש לפרט את פרטי החובות ככל שקיימים וכל פרט רלוונטי נוסף | N52: מס' תיק | Q52: גובה החוב | T52: מידע רלוונטי
A63: 10 | B63: האם הוכרזת במהלך שבע השנים האחרונות כפושט רגל?
A64: 10.1 | B64: אם כן, מה סטטוס ההכרזה נכון ליום הגשת הבקשה?
A65: 11 | B65: האם החזקת ברישיון או ברישום שהותלה על ידי גורם מפקח אחר (אינו רשם נש"מ)?
A66: 11.1 | B66: אם כן, יש לצרף את מכתב ההתלייה ולפרט את עיקר הנימוקים באמצעות מערכת הרישוי המקוונת ולפרט בטופס זה את עיקר הנימוקים
A67: 12 | B67: האם החזקת ברישיון או ברישום שבוטל/ה על ידי גורם מפקח אחר (שגם אינו רשם נש"מ)?
A68: 12.1 | B68: אם כן, יש לצרף את מכתב הביטול ולפרט את עיקר הנימוקים באמצעות מערכת הרישוי המקוונת ולפרט בטופס זה את עיקר הנימוקים
A69: 16 | B69: האם הגשת בעבר בקשה להירשם במרשם נותני שירותי מטבע או בקשה לקבל רישיון אחר מאת המפקח על נותני שירותים פיננסיים?
A70: 16.1 | B70: אם כן, יש לפרט | W70: מס' בקשה (אם קיים) | Z70: סוג מזהה | AC70: מס' זיהוי | AF70: האם הבקשה נדחתה? | AI70: האם הוגש ערעור?
A81: 18 | B81: במידה והחזקת ברישיון אחר או בתעודת נותן שירותי מטבע, האם רישומך במרשם נותני שירותי מטבע הותלה על ידי הרשם?
A82: 18.1 | B82: אם כן יש לצרף מסמכים רלוונטים באמצעות מערכת הרישוי המקוונת ולפרט בטופס זה את עיקר הנימוקים
A83: 19 | B83: במידה והחזקת ברישיון אחר או בתעודת נותן שירותי מטבע, האם רישומך במרשם נותני שירותי מטבע בוטל על ידי הרשם?
A84: 19.1 | B84: אם כן יש לצרף מסמכים רלוונטים באמצעות מערכת הרישוי המקוונת ולפרט בטופס זה את עיקר הנימוקים
A85: 20 | B85: במידה והחזקת ברישיון אחר או בתעודת נותן שירותי מטבע, האם הוטלו עליך עיצומים?
A86: 20.1 | B86: אם כן יש לצרף מסמכים רלוונטים באמצעות מערכת הרישוי המקוונת ולפרט בטופס זה את עיקר הדברים
A87: 21 | B87: במידה והחזקת ברישיון אחר או בתעודת נותן שירותי מטבע, האם בוצע שימוע בעניינך, לרבות ביטול דרישה לביטול רישיון, להתליית רישיון או להטלת עיצום כספי?
A88: 21.1 | B88: אם כן יש לצרף מסמכים רלוונטים באמצעות מערכת הרישוי המקוונת ולפרט בטופס זה את עיקר הדברים
A89: 22 | B89: האם קיים קשר עסקי לחברות בחו"ל?
A90: 22.1 | B90: אם כן, נא לפרט
A91: 23 | B91: האם ישנו קרוב משפחה שעובד או עבד בעבר כנותן שירותי מטבע או נותן שירות פיננסי?
A92: 23.1 | B92: אם כן, יש לפרט את הפרטים הבאים עבור כל קרוב משפחה ועבור כל מקום עבודה רלוונטי שעבד בו | Q92: שם מלא | T92: סוג מזהה | W92: מס' מזהה | Z92: שם נותן השירות | AC92: מס' רישיון/רישום | AF92: תפקיד | AI92: האם סיים תפקידו?
A103: 24 | B103: האם ישנו קרוב משפחה המחזיק באמצעי שליטה כיום או ב-3 השנים האחרונות בנותן שירותי מטבע או בנותן שירות פיננסי?
A104: 24.1 | B104: אם כן, יש לפרט את הפרטים הבאים עבור כל קרוב משפחה ועבור כל נותן שירותי מטבע | Q104: שם מלא | T104: סוג מזהה | W104: מס' מזהה | Z104: שם נותן השירות | AC104: מס' רישיון/רישום | AF104: אמצעי שליטה | AI104: שיעור החזקה/ השליטה בפועל (%) | AL104: פירוט - שדה זה רלוונטי רק כאשר הוזן אמצעי שליטה "אחר"
A115: 25 | B115: האם ישנו קרוב משפחה שהגיש בקשה לרישום נותן שירותי מטבע או לקבלת רישיון בנותן שירות פיננסי, כיום או בעבר ?
A116: 25.1 | B116: אם כן, יש לפרט את הפרטים הבאים עבור כל קרוב משפחה ועבור כל מקום עבודה רלוונטי שעבד בו | Q116: מס' בקשה (אם קיים) | T116: סוג מזהה | W116: מס' זיהוי | Z116: האם הבקשה נדחתה? | AC116: האם הוגש ערעור?
A127: 26 | B127: האם מבקש הרישיון הוא בעל השפעה או מחזיק באמצעי שליטה בנותן שירותים פיננסיים אחר?
A128: 26.1 | B128: אם כן, יש לפרט את הפרטים הבאים | J128: שם נותן השירותים הפיננסיים | Q128: סוג מזהה | T128: מס' מזהה | W128: אמצעי השליטה | Z128: שיעור החזקה בפועל | AC128: פירוט - שדה זה רלוונטי רק כאשר הוזן אמצעי שליטה "אחר"
A139: 27 | B139: האם היית בעבר בעל עסק של נותן שירותי מטבע או נותן שירות פיננסי?
A140: 27.1 | B140: אם כן, יש לציין את פרטי העסק והסיבה לסגירה | Q140: שם נותן השירותים הפיננסיים | X140: מס' רישיון | AA140: הסיבה לסגירה
A151: 28 | B151: האם קיימת עילה המונעת ממך לשמש כנושא משרה בתאגיד (למשל החלטה, צו או פסק דין של בית משפט)?
A152: 28.1 | B152: אם כן, יש לפרט
A153: 29 | B153: האם הגשת בעבר בקשה לקבל היתר החזקה או שליטה על ידי גורם מפקח כלשהו?
A154: 29.1 | B154: אם כן, יש לפרט | T154: גורם מפקח | V154: גורם מפקח | W154: מס' בקשה (אם קיים) | Z154: סוג מזהה | AC154: מס' זיהוי | AF154: האם הבקשה נדחתה? | AI154: האם הוגש ערעור? | AL154: האם הבקשה בוטלה? | AM154: האם
A165: 30 | B165: במידה והחזקת בהיתר החזקה או שליטה, האם ההיתר הותלה?
A166: 30.1 | B166: אם כן יש לצרף מסמכים רלוונטים באמצעות מערכת הרישוי המקוונת ולפרט בטופס זה את עיקר הנימוקים
A167: 31 | B167: במידה והחזקת בהיתר החזקה או שליטה האם ההיתר בוטל?
A168: 31.1 | B168: אם כן יש לצרף מסמכים רלוונטים באמצעות מערכת הרישוי המקוונת ולפרט בטופס זה את עיקר הנימוקים
A169: 32 | B169: במידה והחזקת בהיתר החזקה או שליטה, האם הוטלו עליך עיצומים?
A170: 32.1 | B170: אם כן יש לצרף מסמכים רלוונטים באמצעות מערכת הרישוי המקוונת ולפרט בטופס זה את עיקר הדברים
A171: 33 | B171: במידה והחזקת ברהיתר החזקה או שליטה, האם בוצע שימוע בעניינך, לרבות ביטול דרישה לביטול רישיון, להתליית רישיון או להטלת עיצום כספי?
A172: 33.1 | B172: אם כן יש לצרף מסמכים רלוונטים באמצעות מערכת הרישוי המקוונת ולפרט בטופס זה את עיקר הדברים

Sheet T2(9)
A1: חלק א'
A2: פרטי העסק
A3: 1 | B3: שם מבקש הרישיון | F3: ='T1'!F8 -> 0
A4: 2 | B4: סוג מזהה | F4: ='T1'!F9 -> 0
A5: 3 | B5: מס' זיהוי | F5: ='T1'!F10 -> 0
A6: 1 | B6: שם מבקש ההיתר
A7: 2 | B7: סוג מזהה
A8: 3 | B8: מס' זיהוי
A10: חלק ב'
A11: הצהרות
A12: 4 | B12: האם אחד הבנקים סירב לפתוח עבורך חשבון?
A13: 4.1 | B13: אם כן, מהן הסיבות לסירוב? יש לפרט כל פרט רלוונטי נוסף
A14: 5 | B14: האם חשבון הבנק שלך הוגבל בעבר?
A15: 5.1 | B15: אם כן, מהן הסיבות להגבלה? יש לפרט כל פרט רלוונטי נוסף
A16: 6 | B16: האם קיים בעניינך רישום במרשם הפלילי (כמשמעותו בחוק המרשם הפלילי ותקנת השבים, התשמ"א-1981)?
A17: 6.1 | B17: אם כן יש לציין מהי העבירה ולציין אלו מסמכים צורפו לבקשה | N17: פירוט העבירה | T17: האם העבירה מופיעה בסעיף 15(א)(3)(א) לחוק? | W17: האם בוצעה בישראל? | Z17: העתק כתב אישום | AC17: פס"ד | AF17: גזר דין | AI17: אישור תרגום נוטוריון | AL17: האם צורפו מסמכים אחרים? | AO17: מספר מסמכים שצורפו
A27: 7 | B27: האם קיימים נגדך תיקים פתוחים בהוצאה לפועל?
A28: 7.1 | B28: אם כן, יש לפרט את פרטי התיקים, גובה החוב וכל פרט רלוונטי נוסף | N28: מס' תיק | Q28: גובה החוב | T28: מידע רלוונטי
A39: 8 | B39: האם עומדות נגדך תביעות פתוחות במס הכנסה או במע"מ?
A40: 8.1 | B40: אם כן, יש לפרט את פרטי התביעה, גובה החוב וכל פרט רלוונטי נוסף | N40: מס' תיק | Q40: גובה החוב | T40: מידע רלוונטי
A51: 9 | B51: האם יש לך חובות הנמצאים בהליך גבייה מול המרכז לגביית קנסות?
A52: 9.1 | B52: אם כן, יש לפרט את פרטי החובות ככל שקיימים וכל פרט רלוונטי נוסף | N52: מס' תיק | Q52: גובה החוב | T52: מידע רלוונטי
A63: 10 | B63: האם הוכרזת במהלך שבע השנים האחרונות כפושט רגל?
A64: 10.1 | B64: אם כן, מה סטטוס ההכרזה נכון ליום הגשת הבקשה?
A65: 11 | B65: האם החזקת ברישיון או ברישום שהותלה על ידי גורם מפקח אחר (אינו רשם נש"מ)?
A66: 11.1 | B66: אם כן, יש לצרף את מכתב ההתלייה ולפרט את עיקר הנימוקים באמצעות מערכת הרישוי המקוונת ולפרט בטופס זה את עיקר הנימוקים
A67: 12 | B67: האם החזקת ברישיון או ברישום שבוטל/ה על ידי גורם מפקח אחר (שגם אינו רשם נש"מ)?
A68: 12.1 | B68: אם כן, יש לצרף את מכתב הביטול ולפרט את עיקר הנימוקים באמצעות מערכת הרישוי המקוונת ולפרט בטופס זה את עיקר הנימוקים
A69: 16 | B69: האם הגשת בעבר בקשה להירשם במרשם נותני שירותי מטבע או בקשה לקבל רישיון אחר מאת המפקח על נותני שירותים פיננסיים?
A70: 16.1 | B70: אם כן, יש לפרט | W70: מס' בקשה (אם קיים) | Z70: סוג מזהה | AC70: מס' זיהוי | AF70: האם הבקשה נדחתה? | AI70: האם הוגש ערעור?
A81: 18 | B81: במידה והחזקת ברישיון אחר או בתעודת נותן שירותי מטבע, האם רישומך במרשם נותני שירותי מטבע הותלה על ידי הרשם?
A82: 18.1 | B82: אם כן יש לצרף מסמכים רלוונטים באמצעות מערכת הרישוי המקוונת ולפרט בטופס זה את עיקר הנימוקים
A83: 19 | B83: במידה והחזקת ברישיון אחר או בתעודת נותן שירותי מטבע, האם רישומך במרשם נותני שירותי מטבע בוטל על ידי הרשם?
A84: 19.1 | B84: אם כן יש לצרף מסמכים רלוונטים באמצעות מערכת הרישוי המקוונת ולפרט בטופס זה את עיקר הנימוקים
A85: 20 | B85: במידה והחזקת ברישיון אחר או בתעודת נותן שירותי מטבע, האם הוטלו עליך עיצומים?
A86: 20.1 | B86: אם כן יש לצרף מסמכים רלוונטים באמצעות מערכת הרישוי המקוונת ולפרט בטופס זה את עיקר הדברים
A87: 21 | B87: במידה והחזקת ברישיון אחר או בתעודת נותן שירותי מטבע, האם בוצע שימוע בעניינך, לרבות ביטול דרישה לביטול רישיון, להתליית רישיון או להטלת עיצום כספי?
A88: 21.1 | B88: אם כן יש לצרף מסמכים רלוונטים באמצעות מערכת הרישוי המקוונת ולפרט בטופס זה את עיקר הדברים
A89: 22 | B89: האם קיים קשר עסקי לחברות בחו"ל?
A90: 22.1 | B90: אם כן, נא לפרט
A91: 23 | B91: האם ישנו קרוב משפחה שעובד או עבד בעבר כנותן שירותי מטבע או נותן שירות פיננסי?
A92: 23.1 | B92: אם כן, יש לפרט את הפרטים הבאים עבור כל קרוב משפחה ועבור כל מקום עבודה רלוונטי שעבד בו | Q92: שם מלא | T92: סוג מזהה | W92: מס' מזהה | Z92: שם נותן השירות | AC92: מס' רישיון/רישום | AF92: תפקיד | AI92: האם סיים תפקידו?
A103: 24 | B103: האם ישנו קרוב משפחה המחזיק באמצעי שליטה כיום או ב-3 השנים האחרונות בנותן שירותי מטבע או בנותן שירות פיננסי?
A104: 24.1 | B104: אם כן, יש לפרט את הפרטים הבאים עבור כל קרוב משפחה ועבור כל נותן שירותי מטבע | Q104: שם מלא | T104: סוג מזהה | W104: מס' מזהה | Z104: שם נותן השירות | AC104: מס' רישיון/רישום | AF104: אמצעי שליטה | AI104: שיעור החזקה/ השליטה בפועל (%) | AL104: פירוט - שדה זה רלוונטי רק כאשר הוזן אמצעי שליטה "אחר"
A115: 25 | B115: האם ישנו קרוב משפחה שהגיש בקשה לרישום נותן שירותי מטבע או לקבלת רישיון בנותן שירות פיננסי, כיום או בעבר ?
A116: 25.1 | B116: אם כן, יש לפרט את הפרטים הבאים עבור כל קרוב משפחה ועבור כל מקום עבודה רלוונטי שעבד בו | Q116: מס' בקשה (אם קיים) | T116: סוג מזהה | W116: מס' זיהוי | Z116: האם הבקשה נדחתה? | AC116: האם הוגש ערעור?
A127: 26 | B127: האם מבקש הרישיון הוא בעל השפעה או מחזיק באמצעי שליטה בנותן שירותים פיננסיים אחר?
A128: 26.1 | B128: אם כן, יש לפרט את הפרטים הבאים | J128: שם נותן השירותים הפיננסיים | Q128: סוג מזהה | T128: מס' מזהה | W128: אמצעי השליטה | Z128: שיעור החזקה בפועל | AC128: פירוט - שדה זה רלוונטי רק כאשר הוזן אמצעי שליטה "אחר"
A139: 27 | B139: האם היית בעבר בעל עסק של נותן שירותי מטבע או נותן שירות פיננסי?
A140: 27.1 | B140: אם כן, יש לציין את פרטי העסק והסיבה לסגירה | Q140: שם נותן השירותים הפיננסיים | X140: מס' רישיון | AA140: הסיבה לסגירה
A151: 28 | B151: האם קיימת עילה המונעת ממך לשמש כנושא משרה בתאגיד (למשל החלטה, צו או פסק דין של בית משפט)?
A152: 28.1 | B152: אם כן, יש לפרט
A153: 29 | B153: האם הגשת בעבר בקשה לקבל היתר החזקה או שליטה על ידי גורם מפקח כלשהו?
A154: 29.1 | B154: אם כן, יש לפרט | T154: גורם מפקח | V154: גורם מפקח | W154: מס' בקשה (אם קיים) | Z154: סוג מזהה | AC154: מס' זיהוי | AF154: האם הבקשה נדחתה? | AI154: האם הוגש ערעור? | AL154: האם הבקשה בוטלה? | AM154: האם
A165: 30 | B165: במידה והחזקת בהיתר החזקה או שליטה, האם ההיתר הותלה?
A166: 30.1 | B166: אם כן יש לצרף מסמכים רלוונטים באמצעות מערכת הרישוי המקוונת ולפרט בטופס זה את עיקר הנימוקים
A167: 31 | B167: במידה והחזקת בהיתר החזקה או שליטה האם ההיתר בוטל?
A168: 31.1 | B168: אם כן יש לצרף מסמכים רלוונטים באמצעות מערכת הרישוי המקוונת ולפרט בטופס זה את עיקר הנימוקים
A169: 32 | B169: במידה והחזקת בהיתר החזקה או שליטה, האם הוטלו עליך עיצומים?
A170: 32.1 | B170: אם כן יש לצרף מסמכים רלוונטים באמצעות מערכת הרישוי המקוונת ולפרט בטופס זה את עיקר הדברים
A171: 33 | B171: במידה והחזקת ברהיתר החזקה או שליטה, האם בוצע שימוע בעניינך, לרבות ביטול דרישה לביטול רישיון, להתליית רישיון או להטלת עיצום כספי?
A172: 33.1 | B172: אם כן יש לצרף מסמכים רלוונטים באמצעות מערכת הרישוי המקוונת ולפרט בטופס זה את עיקר הדברים

Sheet T2(10)
A1: חלק א'
A2: פרטי העסק
A3: 1 | B3: שם מבקש הרישיון | F3: ='T1'!F8 -> 0
A4: 2 | B4: סוג מזהה | F4: ='T1'!F9 -> 0
A5: 3 | B5: מס' זיהוי | F5: ='T1'!F10 -> 0
A6: 1 | B6: שם מבקש ההיתר
A7: 2 | B7: סוג מזהה
A8: 3 | B8: מס' זיהוי
A10: חלק ב'
A11: הצהרות
A12: 4 | B12: האם אחד הבנקים סירב לפתוח עבורך חשבון?
A13: 4.1 | B13: אם כן, מהן הסיבות לסירוב? יש לפרט כל פרט רלוונטי נוסף
A14: 5 | B14: האם חשבון הבנק שלך הוגבל בעבר?
A15: 5.1 | B15: אם כן, מהן הסיבות להגבלה? יש לפרט כל פרט רלוונטי נוסף
A16: 6 | B16: האם קיים בעניינך רישום במרשם הפלילי (כמשמעותו בחוק המרשם הפלילי ותקנת השבים, התשמ"א-1981)?
A17: 6.1 | B17: אם כן יש לציין מהי העבירה ולציין אלו מסמכים צורפו לבקשה | N17: פירוט העבירה | T17: האם העבירה מופיעה בסעיף 15(א)(3)(א) לחוק? | W17: האם בוצעה בישראל? | Z17: העתק כתב אישום | AC17: פס"ד | AF17: גזר דין | AI17: אישור תרגום נוטוריון | AL17: האם צורפו מסמכים אחרים? | AO17: מספר מסמכים שצורפו
A27: 7 | B27: האם קיימים נגדך תיקים פתוחים בהוצאה לפועל?
A28: 7.1 | B28: אם כן, יש לפרט את פרטי התיקים, גובה החוב וכל פרט רלוונטי נוסף | N28: מס' תיק | Q28: גובה החוב | T28: מידע רלוונטי
A39: 8 | B39: האם עומדות נגדך תביעות פתוחות במס הכנסה או במע"מ?
A40: 8.1 | B40: אם כן, יש לפרט את פרטי התביעה, גובה החוב וכל פרט רלוונטי נוסף | N40: מס' תיק | Q40: גובה החוב | T40: מידע רלוונטי
A51: 9 | B51: האם יש לך חובות הנמצאים בהליך גבייה מול המרכז לגביית קנסות?
A52: 9.1 | B52: אם כן, יש לפרט את פרטי החובות ככל שקיימים וכל פרט רלוונטי נוסף | N52: מס' תיק | Q52: גובה החוב | T52: מידע רלוונטי
A63: 10 | B63: האם הוכרזת במהלך שבע השנים האחרונות כפושט רגל?
A64: 10.1 | B64: אם כן, מה סטטוס ההכרזה נכון ליום הגשת הבקשה?
A65: 11 | B65: האם החזקת ברישיון או ברישום שהותלה על ידי גורם מפקח אחר (אינו רשם נש"מ)?
A66: 11.1 | B66: אם כן, יש לצרף את מכתב ההתלייה ולפרט את עיקר הנימוקים באמצעות מערכת הרישוי המקוונת ולפרט בטופס זה את עיקר הנימוקים
A67: 12 | B67: האם החזקת ברישיון או ברישום שבוטל/ה על ידי גורם מפקח אחר (שגם אינו רשם נש"מ)?
A68: 12.1 | B68: אם כן, יש לצרף את מכתב הביטול ולפרט את עיקר הנימוקים באמצעות מערכת הרישוי המקוונת ולפרט בטופס זה את עיקר הנימוקים
A69: 16 | B69: האם הגשת בעבר בקשה להירשם במרשם נותני שירותי מטבע או בקשה לקבל רישיון אחר מאת המפקח על נותני שירותים פיננסיים?
A70: 16.1 | B70: אם כן, יש לפרט | W70: מס' בקשה (אם קיים) | Z70: סוג מזהה | AC70: מס' זיהוי | AF70: האם הבקשה נדחתה? | AI70: האם הוגש ערעור?
A81: 18 | B81: במידה והחזקת ברישיון אחר או בתעודת נותן שירותי מטבע, האם רישומך במרשם נותני שירותי מטבע הותלה על ידי הרשם?
A82: 18.1 | B82: אם כן יש לצרף מסמכים רלוונטים באמצעות מערכת הרישוי המקוונת ולפרט בטופס זה את עיקר הנימוקים
A83: 19 | B83: במידה והחזקת ברישיון אחר או בתעודת נותן שירותי מטבע, האם רישומך במרשם נותני שירותי מטבע בוטל על ידי הרשם?
A84: 19.1 | B84: אם כן יש לצרף מסמכים רלוונטים באמצעות מערכת הרישוי המקוונת ולפרט בטופס זה את עיקר הנימוקים
A85: 20 | B85: במידה והחזקת ברישיון אחר או בתעודת נותן שירותי מטבע, האם הוטלו עליך עיצומים?
A86: 20.1 | B86: אם כן יש לצרף מסמכים רלוונטים באמצעות מערכת הרישוי המקוונת ולפרט בטופס זה את עיקר הדברים
A87: 21 | B87: במידה והחזקת ברישיון אחר או בתעודת נותן שירותי מטבע, האם בוצע שימוע בעניינך, לרבות ביטול דרישה לביטול רישיון, להתליית רישיון או להטלת עיצום כספי?
A88: 21.1 | B88: אם כן יש לצרף מסמכים רלוונטים באמצעות מערכת הרישוי המקוונת ולפרט בטופס זה את עיקר הדברים
A89: 22 | B89: האם קיים קשר עסקי לחברות בחו"ל?
A90: 22.1 | B90: אם כן, נא לפרט
A91: 23 | B91: האם ישנו קרוב משפחה שעובד או עבד בעבר כנותן שירותי מטבע או נותן שירות פיננסי?
A92: 23.1 | B92: אם כן, יש לפרט את הפרטים הבאים עבור כל קרוב משפחה ועבור כל מקום עבודה רלוונטי שעבד בו | Q92: שם מלא | T92: סוג מזהה | W92: מס' מזהה | Z92: שם נותן השירות | AC92: מס' רישיון/רישום | AF92: תפקיד | AI92: האם סיים תפקידו?
A103: 24 | B103: האם ישנו קרוב משפחה המחזיק באמצעי שליטה כיום או ב-3 השנים האחרונות בנותן שירותי מטבע או בנותן שירות פיננסי?
A104: 24.1 | B104: אם כן, יש לפרט את הפרטים הבאים עבור כל קרוב משפחה ועבור כל נותן שירותי מטבע | Q104: שם מלא | T104: סוג מזהה | W104: מס' מזהה | Z104: שם נותן השירות | AC104: מס' רישיון/רישום | AF104: אמצעי שליטה | AI104: שיעור החזקה/ השליטה בפועל (%) | AL104: פירוט - שדה זה רלוונטי רק כאשר הוזן אמצעי שליטה "אחר"
A115: 25 | B115: האם ישנו קרוב משפחה שהגיש בקשה לרישום נותן שירותי מטבע או לקבלת רישיון בנותן שירות פיננסי, כיום או בעבר ?
A116: 25.1 | B116: אם כן, יש לפרט את הפרטים הבאים עבור כל קרוב משפחה ועבור כל מקום עבודה רלוונטי שעבד בו | Q116: מס' בקשה (אם קיים) | T116: סוג מזהה | W116: מס' זיהוי | Z116: האם הבקשה נדחתה? | AC116: האם הוגש ערעור?
A127: 26 | B127: האם מבקש הרישיון הוא בעל השפעה או מחזיק באמצעי שליטה בנותן שירותים פיננסיים אחר?
A128: 26.1 | B128: אם כן, יש לפרט את הפרטים הבאים | J128: שם נותן השירותים הפיננסיים | Q128: סוג מזהה | T128: מס' מזהה | W128: אמצעי השליטה | Z128: שיעור החזקה בפועל | AC128: פירוט - שדה זה רלוונטי רק כאשר הוזן אמצעי שליטה "אחר"
A139: 27 | B139: האם היית בעבר בעל עסק של נותן שירותי מטבע או נותן שירות פיננסי?
A140: 27.1 | B140: אם כן, יש לציין את פרטי העסק והסיבה לסגירה | Q140: שם נותן השירותים הפיננסיים | X140: מס' רישיון | AA140: הסיבה לסגירה
A151: 28 | B151: האם קיימת עילה המונעת ממך לשמש כנושא משרה בתאגיד (למשל החלטה, צו או פסק דין של בית משפט)?
A152: 28.1 | B152: אם כן, יש לפרט
A153: 29 | B153: האם הגשת בעבר בקשה לקבל היתר החזקה או שליטה על ידי גורם מפקח כלשהו?
A154: 29.1 | B154: אם כן, יש לפרט | T154: גורם מפקח | V154: גורם מפקח | W154: מס' בקשה (אם קיים) | Z154: סוג מזהה | AC154: מס' זיהוי | AF154: האם הבקשה נדחתה? | AI154: האם הוגש ערעור? | AL154: האם הבקשה בוטלה? | AM154: האם
A165: 30 | B165: במידה והחזקת בהיתר החזקה או שליטה, האם ההיתר הותלה?
A166: 30.1 | B166: אם כן יש לצרף מסמכים רלוונטים באמצעות מערכת הרישוי המקוונת ולפרט בטופס זה את עיקר הנימוקים
A167: 31 | B167: במידה והחזקת בהיתר החזקה או שליטה האם ההיתר בוטל?
A168: 31.1 | B168: אם כן יש לצרף מסמכים רלוונטים באמצעות מערכת הרישוי המקוונת ולפרט בטופס זה את עיקר הנימוקים
A169: 32 | B169: במידה והחזקת בהיתר החזקה או שליטה, האם הוטלו עליך עיצומים?
A170: 32.1 | B170: אם כן יש לצרף מסמכים רלוונטים באמצעות מערכת הרישוי המקוונת ולפרט בטופס זה את עיקר הדברים
A171: 33 | B171: במידה והחזקת ברהיתר החזקה או שליטה, האם בוצע שימוע בעניינך, לרבות ביטול דרישה לביטול רישיון, להתליית רישיון או להטלת עיצום כספי?
A172: 33.1 | B172: אם כן יש לצרף מסמכים רלוונטים באמצעות מערכת הרישוי המקוונת ולפרט בטופס זה את עיקר הדברים

Sheet T3
A1: הנחיות למילוי הגיליון
A2: א. | B2: בחלק ב יש למלא את השינויים הרלוונטים בלבד
A3: ב. | B3: יש לצרף לבקשת העדכון; 1. תצהיר עו"ד בדבר נכונות פרטי בקשת עדכון ו- 2. מסמכים כנדרש בהתאם לסוג בקשת העדכון
A4: ג. | B4: אם הכתובת החדשה ממוקמת בבית מגורים יש להעביר תצהיר עדכון כתובת של בעל רישיון לבית מגורים לפי נספח ח' לנוהל רישוי נותני שירות בנכס פיננסי ובמתן אשראי
A5: ד. | B5: יש לצרף מסמכים המאמתים את הפרטים המעודכנים
A7: חלק א'
A8: פרטי העסק
A9: 1 | B9: שם בעל הרישיון
A10: 2 | B10: מספר הרישיון
A12: חלק ב'
A13: שינוי תפקיד עבור נושא משרה
A14: 3 | B14: שם פרטי
A15: 4 | B15: שם משפחה
A16: 5 | B16: סוג מזהה
A17: 6 | B17: מספר זיהוי
A18: 7 | B18: תפקיד לפני השינוי
A19: 8 | B19: תפקיד אחרי השינוי
A20: עדכון רישום פלילי
A21: 9 | B21: שם פרטי
A22: 10 | B22: שם משפחה
A23: 11 | B23: מסמך מזהה
A24: 12 | B24: מספר זיהוי
A25: 13 | B25: תפקיד
A26: 14 | B26: האם התווסף רישום חדש?
A27: 15 | B27: האם חל שינוי ברישום קיים?
A28: 16 | B28: העתק מכתב אישום
A29: 17 | B29: פסק הדין הסופי וגזר הדין אם נתנו
A30: 18 | B30: אימות ותרגום לפי דין למסמכים הרלוונטים
A31: 19 | B31: אחר
A32: ביטול מינוי נושא משרה או היתר שליטה
A33: 20 | B33: סוג השינוי
A34: 21 | B34: שם פרטי
A35: 22 | B35: שם משפחה
A36: 23 | B36: סוג מזהה
A37: 24 | B37: מספר זיהוי
A38: 25 | B38: מספר הודעת אי התנגדות (עבור נושא משרה בלבד)
A39: שינוי שם בעל רישיון
A40: 26 | B40: שם המבקש
A41: שינוי פרטי התקשרות
A42: 27 | B42: טלפוןן קווי
A43: 28 | B43: טלפון נייד
A44: 29 | B44: דוא"ל
A45: 30 | B45: פקס
A46: שינוי כתובת בעל רישיון או הוספת סניף
A47: 31 | B47: סוג השינוי
A48: 32 | B48: יש להעביר טופס סניפים המופיע בגיליון T2 בקובץ זה
A49: עדכון אחר
A50: 33 | B50: פרטי העדכון

Sheet עזר
A1: כן | C1: תעודת זהות | E1: מניות | K1: בעל שליטה | M1: בעל שליטה | P1: שותף
A2: לא | C2: דרכון | E2: זכויות הצבעה | K2: בעל השפעה | M2: בעל עניין | P2: שותף מוגבל
C3: ח.פ | E3: זכות למינוי דירקטורים | K3: ל"ר
C4: ח.צ | E4: זכות להשתתף ברווחי תאגיד
C5: א.ש | E5: זכות ליתרת נכסי התאגיד בעת חיסולו לאחר סילוק התחייבויותיו
C6: אחר | E6: החזקה בשרשור
E7: אחר
